BEGIN:VCALENDAR
VERSION:2.0
PRODID:-//Living Hope Christian Church - ECPv6.15.17.1//NONSGML v1.0//EN
CALSCALE:GREGORIAN
METHOD:PUBLISH
X-ORIGINAL-URL:https://lhcc.info
X-WR-CALDESC:Events for Living Hope Christian Church
REFRESH-INTERVAL;VALUE=DURATION:PT1H
X-Robots-Tag:noindex
X-PUBLISHED-TTL:PT1H
BEGIN:VTIMEZONE
TZID:America/New_York
BEGIN:DAYLIGHT
TZOFFSETFROM:-0500
TZOFFSETTO:-0400
TZNAME:EDT
DTSTART:20240310T070000
END:DAYLIGHT
BEGIN:STANDARD
TZOFFSETFROM:-0400
TZOFFSETTO:-0500
TZNAME:EST
DTSTART:20241103T060000
END:STANDARD
BEGIN:DAYLIGHT
TZOFFSETFROM:-0500
TZOFFSETTO:-0400
TZNAME:EDT
DTSTART:20250309T070000
END:DAYLIGHT
BEGIN:STANDARD
TZOFFSETFROM:-0400
TZOFFSETTO:-0500
TZNAME:EST
DTSTART:20251102T060000
END:STANDARD
BEGIN:DAYLIGHT
TZOFFSETFROM:-0500
TZOFFSETTO:-0400
TZNAME:EDT
DTSTART:20260308T070000
END:DAYLIGHT
BEGIN:STANDARD
TZOFFSETFROM:-0400
TZOFFSETTO:-0500
TZNAME:EST
DTSTART:20261101T060000
END:STANDARD
END:VTIMEZONE
BEGIN:VEVENT
DTSTART;TZID=America/New_York:20250302T100000
DTEND;TZID=America/New_York:20250302T110000
DTSTAMP:20260424T133927
CREATED:20250206T203141Z
LAST-MODIFIED:20250211T140400Z
UID:10007078-1740909600-1740913200@lhcc.info
SUMMARY:Baby Dedication
DESCRIPTION:This is a special time we take during our Sunday morning service to allow parents the opportunity to publicly declare that they want to raise their child in the fear and admonition of the Lord. It is a time for the church to come alongside those parents and support and encourage them in that choice. \nIf you would like to have your child dedicated that day Sign Up Here and join this joyous time!
URL:https://lhcc.info/event/baby-dedication/
LOCATION:Living Hope Christian Church\, 730 South County Trail\, North Kingstown\, RI\, 02852\, United States
CATEGORIES:Church Events
ATTACH;FMTTYPE=image/png:https://lhcc.info/wp-content/uploads/2025/02/Baby-Dedication-1.png
GEO:41.5556183;-71.5189401
X-APPLE-STRUCTURED-LOCATION;VALUE=URI;X-ADDRESS=Living Hope Christian Church 730 South County Trail North Kingstown RI 02852 United States;X-APPLE-RADIUS=500;X-TITLE=730 South County Trail:geo:-71.5189401,41.5556183
END:VEVENT
BEGIN:VEVENT
DTSTART;TZID=America/New_York:20250303T190000
DTEND;TZID=America/New_York:20250303T203000
DTSTAMP:20260424T133927
CREATED:20230620T145125Z
LAST-MODIFIED:20250124T010743Z
UID:10006735-1741028400-1741033800@lhcc.info
SUMMARY:Creating Hope Paint Night
DESCRIPTION:Join us for a FREE night of creativity and fellowship as Tony Mattera guides us through the process of painting another new masterpiece. \nYou must be at least 13 years old to join and we ask you to Sign Up Online so we can ensure materials and seating. \nJoin us for this fun night out together!
URL:https://lhcc.info/event/creating-hope-paint-night-4-2023-09-04-2023-12-04/2025-03-03/
LOCATION:RI
CATEGORIES:Church Events
ATTACH;FMTTYPE=image/jpeg:https://lhcc.info/wp-content/uploads/2023/02/creating-hope-insta.jpg
END:VEVENT
BEGIN:VEVENT
DTSTART;TZID=America/New_York:20250315T090000
DTEND;TZID=America/New_York:20250315T100000
DTSTAMP:20260424T133927
CREATED:20200211T173822Z
LAST-MODIFIED:20200818T192715Z
UID:10006108-1742029200-1742032800@lhcc.info
SUMMARY:Monthly Prayer Breakfast
DESCRIPTION:Pray and Fellowship with us at our monthly Prayer Breakfast!\nIf you are not able to be here in person just grab your coffee and  join us from your couch through this Zoom link! \nJoin Zoom Meeting\nhttps://us02web.zoom.us/j/82939855986?pwd=eHJ4NWxDY2FNTW9STXJLdFVnNEpYUT09 \nMeeting ID: 829 3985 5986\nPasscode: 301955\nOne tap mobile\n+13017158592\,\,82939855986#\,\,\,\,\,\,0#\,\,301955# US (Germantown)\n+13126266799\,\,82939855986#\,\,\,\,\,\,0#\,\,301955# US (Chicago) \nDial by your location\n+1 301 715 8592 US (Germantown)\n+1 312 626 6799 US (Chicago)\n+1 929 205 6099 US (New York)\n+1 253 215 8782 US (Tacoma)\n+1 346 248 7799 US (Houston)\n+1 669 900 6833 US (San Jose)\nMeeting ID: 829 3985 5986\nPasscode: 301955\nFind your local number: https://us02web.zoom.us/u/khiwSaPmj
URL:https://lhcc.info/event/prayer-breakfast-3/2025-03-15/
LOCATION:Living Hope Christian Church\, 730 South County Trail\, North Kingstown\, RI\, 02852\, United States
CATEGORIES:Church Events,Prayer
ATTACH;FMTTYPE=image/jpeg:https://lhcc.info/wp-content/uploads/2020/02/Prayer-Breakfast.jpg
GEO:41.5556183;-71.5189401
X-APPLE-STRUCTURED-LOCATION;VALUE=URI;X-ADDRESS=Living Hope Christian Church 730 South County Trail North Kingstown RI 02852 United States;X-APPLE-RADIUS=500;X-TITLE=730 South County Trail:geo:-71.5189401,41.5556183
END:VEVENT
BEGIN:VEVENT
DTSTART;TZID=America/New_York:20250316T120000
DTEND;TZID=America/New_York:20250316T130000
DTSTAMP:20260424T133927
CREATED:20250124T010505Z
LAST-MODIFIED:20250213T211226Z
UID:10007077-1742126400-1742130000@lhcc.info
SUMMARY:Getting to Know LHCC
DESCRIPTION:Getting to Know LHCC is an informational session to answer some basic questions about our church. \n\nWho are we?\nWhere we came from?\nWhat we believe?\nWhat we offer?\nHow we lead?\nWho we seek to become?\n\nIf you want to learn more about us\, don’t miss this great opportunity! Join us immediately after service on Sunday\, March 16th. \nLunch will be provided. Please Sign Up and let us know you are coming!
URL:https://lhcc.info/event/getting-to-know-lhcc-2/
LOCATION:Living Hope Christian Church\, 730 South County Trail\, North Kingstown\, RI\, 02852\, United States
CATEGORIES:Church Events
ATTACH;FMTTYPE=image/png:https://lhcc.info/wp-content/uploads/2025/01/Getting-to-know-LHCC-1.png
GEO:41.5556183;-71.5189401
X-APPLE-STRUCTURED-LOCATION;VALUE=URI;X-ADDRESS=Living Hope Christian Church 730 South County Trail North Kingstown RI 02852 United States;X-APPLE-RADIUS=500;X-TITLE=730 South County Trail:geo:-71.5189401,41.5556183
END:VEVENT
BEGIN:VEVENT
DTSTART;TZID=America/New_York:20250323T113000
DTEND;TZID=America/New_York:20250323T130000
DTSTAMP:20260424T133927
CREATED:20240416T131409Z
LAST-MODIFIED:20240416T131409Z
UID:10005847-1742729400-1742734800@lhcc.info
SUMMARY:Monthly Fellowship Lunch
DESCRIPTION:Join us immediately after our 10am service for a “pot-blessing” style lunch! \nBring a dish or dessert to share and stasy for some food\, fun\, and fellowship with your church family!
URL:https://lhcc.info/event/monthly-fellowship-lunch-9/2025-03-23/
LOCATION:Living Hope Christian Church\, 730 South County Trail\, North Kingstown\, RI\, 02852\, United States
CATEGORIES:Church Events
ATTACH;FMTTYPE=image/png:https://lhcc.info/wp-content/uploads/2024/04/Monthly-Fellowship-Lunch.png
GEO:41.5556183;-71.5189401
X-APPLE-STRUCTURED-LOCATION;VALUE=URI;X-ADDRESS=Living Hope Christian Church 730 South County Trail North Kingstown RI 02852 United States;X-APPLE-RADIUS=500;X-TITLE=730 South County Trail:geo:-71.5189401,41.5556183
END:VEVENT
BEGIN:VEVENT
DTSTART;TZID=America/New_York:20250330T113000
DTEND;TZID=America/New_York:20250330T130000
DTSTAMP:20260424T133927
CREATED:20241227T152323Z
LAST-MODIFIED:20250306T210916Z
UID:10007075-1743334200-1743339600@lhcc.info
SUMMARY:Monthly Fellowship "Birthday Party" Lunch
DESCRIPTION:This month we will have a special time during our Monthly Fellowship Lunch to celebrate Pastor Peter’s 60th Birthday!\nThis will still be a “pot-blessing” style lunch so bring a dish to share and we will have the cake.\nCome sing Happy Birthday with us!
URL:https://lhcc.info/event/monthly-fellowship-lunch-15-2025-03-30/
LOCATION:Living Hope Christian Church\, 730 South County Trail\, North Kingstown\, RI\, 02852\, United States
CATEGORIES:Church Events
ATTACH;FMTTYPE=image/png:https://lhcc.info/wp-content/uploads/2024/12/fellowship-lunch-1.png
GEO:41.5556183;-71.5189401
X-APPLE-STRUCTURED-LOCATION;VALUE=URI;X-ADDRESS=Living Hope Christian Church 730 South County Trail North Kingstown RI 02852 United States;X-APPLE-RADIUS=500;X-TITLE=730 South County Trail:geo:-71.5189401,41.5556183
END:VEVENT
END:VCALENDAR