BEGIN:VCALENDAR
VERSION:2.0
PRODID:-//Living Hope Christian Church - ECPv6.15.17.1//NONSGML v1.0//EN
CALSCALE:GREGORIAN
METHOD:PUBLISH
X-ORIGINAL-URL:https://lhcc.info
X-WR-CALDESC:Events for Living Hope Christian Church
REFRESH-INTERVAL;VALUE=DURATION:PT1H
X-Robots-Tag:noindex
X-PUBLISHED-TTL:PT1H
BEGIN:VTIMEZONE
TZID:America/New_York
BEGIN:DAYLIGHT
TZOFFSETFROM:-0500
TZOFFSETTO:-0400
TZNAME:EDT
DTSTART:20230312T070000
END:DAYLIGHT
BEGIN:STANDARD
TZOFFSETFROM:-0400
TZOFFSETTO:-0500
TZNAME:EST
DTSTART:20231105T060000
END:STANDARD
BEGIN:DAYLIGHT
TZOFFSETFROM:-0500
TZOFFSETTO:-0400
TZNAME:EDT
DTSTART:20240310T070000
END:DAYLIGHT
BEGIN:STANDARD
TZOFFSETFROM:-0400
TZOFFSETTO:-0500
TZNAME:EST
DTSTART:20241103T060000
END:STANDARD
BEGIN:DAYLIGHT
TZOFFSETFROM:-0500
TZOFFSETTO:-0400
TZNAME:EDT
DTSTART:20250309T070000
END:DAYLIGHT
BEGIN:STANDARD
TZOFFSETFROM:-0400
TZOFFSETTO:-0500
TZNAME:EST
DTSTART:20251102T060000
END:STANDARD
END:VTIMEZONE
BEGIN:VEVENT
DTSTART;TZID=America/New_York:20240205T190000
DTEND;TZID=America/New_York:20240205T203000
DTSTAMP:20260425T223343
CREATED:20230620T145125Z
LAST-MODIFIED:20250124T010743Z
UID:10006722-1707159600-1707165000@lhcc.info
SUMMARY:Creating Hope Paint Night
DESCRIPTION:Join us for a FREE night of creativity and fellowship as Tony Mattera guides us through the process of painting another new masterpiece. \nYou must be at least 13 years old to join and we ask you to Sign Up Online so we can ensure materials and seating. \nJoin us for this fun night out together!
URL:https://lhcc.info/event/creating-hope-paint-night-4-2023-09-04-2023-12-04/2024-02-05/
LOCATION:RI
CATEGORIES:Church Events
ATTACH;FMTTYPE=image/jpeg:https://lhcc.info/wp-content/uploads/2023/02/creating-hope-insta.jpg
END:VEVENT
BEGIN:VEVENT
DTSTART;TZID=America/New_York:20240217T090000
DTEND;TZID=America/New_York:20240217T100000
DTSTAMP:20260425T223343
CREATED:20200211T173822Z
LAST-MODIFIED:20200818T192715Z
UID:10006095-1708160400-1708164000@lhcc.info
SUMMARY:Monthly Prayer Breakfast
DESCRIPTION:Pray and Fellowship with us at our monthly Prayer Breakfast!\nIf you are not able to be here in person just grab your coffee and  join us from your couch through this Zoom link! \nJoin Zoom Meeting\nhttps://us02web.zoom.us/j/82939855986?pwd=eHJ4NWxDY2FNTW9STXJLdFVnNEpYUT09 \nMeeting ID: 829 3985 5986\nPasscode: 301955\nOne tap mobile\n+13017158592\,\,82939855986#\,\,\,\,\,\,0#\,\,301955# US (Germantown)\n+13126266799\,\,82939855986#\,\,\,\,\,\,0#\,\,301955# US (Chicago) \nDial by your location\n+1 301 715 8592 US (Germantown)\n+1 312 626 6799 US (Chicago)\n+1 929 205 6099 US (New York)\n+1 253 215 8782 US (Tacoma)\n+1 346 248 7799 US (Houston)\n+1 669 900 6833 US (San Jose)\nMeeting ID: 829 3985 5986\nPasscode: 301955\nFind your local number: https://us02web.zoom.us/u/khiwSaPmj
URL:https://lhcc.info/event/prayer-breakfast-3/2024-02-17/
LOCATION:Living Hope Christian Church\, 730 South County Trail\, North Kingstown\, RI\, 02852\, United States
CATEGORIES:Church Events,Prayer
ATTACH;FMTTYPE=image/jpeg:https://lhcc.info/wp-content/uploads/2020/02/Prayer-Breakfast.jpg
GEO:41.5556183;-71.5189401
X-APPLE-STRUCTURED-LOCATION;VALUE=URI;X-ADDRESS=Living Hope Christian Church 730 South County Trail North Kingstown RI 02852 United States;X-APPLE-RADIUS=500;X-TITLE=730 South County Trail:geo:-71.5189401,41.5556183
END:VEVENT
BEGIN:VEVENT
DTSTART;TZID=America/New_York:20240218T113000
DTEND;TZID=America/New_York:20240218T123000
DTSTAMP:20260425T223343
CREATED:20240202T005742Z
LAST-MODIFIED:20240202T005742Z
UID:10006861-1708255800-1708259400@lhcc.info
SUMMARY:Ministry Fair
DESCRIPTION:Sunday\, February 18\, 2024 immediately following Sunday service. \nJoin us for a special time to give people an opportunity to learn more about ALL the different ministries at LHCC. You will be able to interact with the leaders from these ministries and find out not only what the ministry does for and offers our church but also how you could get more involved and possibly serve in that ministry.
URL:https://lhcc.info/event/ministry-fair/
LOCATION:Living Hope Christian Church\, 730 South County Trail\, North Kingstown\, RI\, 02852\, United States
CATEGORIES:Church Events
ATTACH;FMTTYPE=image/png:https://lhcc.info/wp-content/uploads/2024/02/Ministry-Fair.png
GEO:41.5556183;-71.5189401
X-APPLE-STRUCTURED-LOCATION;VALUE=URI;X-ADDRESS=Living Hope Christian Church 730 South County Trail North Kingstown RI 02852 United States;X-APPLE-RADIUS=500;X-TITLE=730 South County Trail:geo:-71.5189401,41.5556183
END:VEVENT
BEGIN:VEVENT
DTSTART;TZID=America/New_York:20240225T113000
DTEND;TZID=America/New_York:20240225T130000
DTSTAMP:20260425T223343
CREATED:20240202T005343Z
LAST-MODIFIED:20240220T174021Z
UID:10006860-1708860600-1708866000@lhcc.info
SUMMARY:"Souper" Monthly Fellowship Lunch
DESCRIPTION:Join us for a “souper” time at this month’s Fellowship Lunch!\nImmediately following service on Sunday\, February 25th bring a soup or accompaniment to soup to share and join us for some food and fellowship together!
URL:https://lhcc.info/event/souper-monthly-fellowship-lunch/
LOCATION:Living Hope Christian Church\, 730 South County Trail\, North Kingstown\, RI\, 02852\, United States
CATEGORIES:Church Events
ATTACH;FMTTYPE=image/jpeg:https://lhcc.info/wp-content/uploads/2024/02/LHCC-Slideshow-2.jpg
GEO:41.5556183;-71.5189401
X-APPLE-STRUCTURED-LOCATION;VALUE=URI;X-ADDRESS=Living Hope Christian Church 730 South County Trail North Kingstown RI 02852 United States;X-APPLE-RADIUS=500;X-TITLE=730 South County Trail:geo:-71.5189401,41.5556183
END:VEVENT
END:VCALENDAR