BEGIN:VCALENDAR
VERSION:2.0
PRODID:-//Living Hope Christian Church - ECPv6.15.17.1//NONSGML v1.0//EN
CALSCALE:GREGORIAN
METHOD:PUBLISH
X-ORIGINAL-URL:https://lhcc.info
X-WR-CALDESC:Events for Living Hope Christian Church
REFRESH-INTERVAL;VALUE=DURATION:PT1H
X-Robots-Tag:noindex
X-PUBLISHED-TTL:PT1H
BEGIN:VTIMEZONE
TZID:America/New_York
BEGIN:DAYLIGHT
TZOFFSETFROM:-0500
TZOFFSETTO:-0400
TZNAME:EDT
DTSTART:20250309T070000
END:DAYLIGHT
BEGIN:STANDARD
TZOFFSETFROM:-0400
TZOFFSETTO:-0500
TZNAME:EST
DTSTART:20251102T060000
END:STANDARD
BEGIN:DAYLIGHT
TZOFFSETFROM:-0500
TZOFFSETTO:-0400
TZNAME:EDT
DTSTART:20260308T070000
END:DAYLIGHT
BEGIN:STANDARD
TZOFFSETFROM:-0400
TZOFFSETTO:-0500
TZNAME:EST
DTSTART:20261101T060000
END:STANDARD
BEGIN:DAYLIGHT
TZOFFSETFROM:-0500
TZOFFSETTO:-0400
TZNAME:EDT
DTSTART:20270314T070000
END:DAYLIGHT
BEGIN:STANDARD
TZOFFSETFROM:-0400
TZOFFSETTO:-0500
TZNAME:EST
DTSTART:20271107T060000
END:STANDARD
END:VTIMEZONE
BEGIN:VEVENT
DTSTART;TZID=America/New_York:20260801T070000
DTEND;TZID=America/New_York:20260801T080000
DTSTAMP:20260423T185927
CREATED:20250606T154232Z
LAST-MODIFIED:20250606T154355Z
UID:10011180-1785567600-1785571200@lhcc.info
SUMMARY:Saturday Morning Bible Study
DESCRIPTION:Join us for this weekly “early risers” Bible study led by Mike DeFransesco on Saturdays at 7am\nYou can meet with us in person at the church or from home through this ZOOM LINK.
URL:https://lhcc.info/event/saturday-morning-bible-study-4-2/2026-08-01/
LOCATION:Living Hope Christian Church\, 730 South County Trail\, North Kingstown\, RI\, 02852\, United States
CATEGORIES:Bible Studies
ATTACH;FMTTYPE=image/png:https://lhcc.info/wp-content/uploads/2024/12/Sat-Bible-Study.png
GEO:41.5556183;-71.5189401
X-APPLE-STRUCTURED-LOCATION;VALUE=URI;X-ADDRESS=Living Hope Christian Church 730 South County Trail North Kingstown RI 02852 United States;X-APPLE-RADIUS=500;X-TITLE=730 South County Trail:geo:-71.5189401,41.5556183
END:VEVENT
BEGIN:VEVENT
DTSTART;TZID=America/New_York:20260805T193000
DTEND;TZID=America/New_York:20260805T203000
DTSTAMP:20260423T185927
CREATED:20250606T152527Z
LAST-MODIFIED:20250606T152651Z
UID:10010985-1785958200-1785961800@lhcc.info
SUMMARY:Wednesday Night Bible Study
DESCRIPTION:Join us for this weekly Bible study led by Pastor Peter on Wednesdays at 7:30pm\nYou can meet with us in person at the church or from home through this ZOOM LINK.
URL:https://lhcc.info/event/wednesday-night-bible-study-6-2/2026-08-05/
LOCATION:Living Hope Christian Church\, 730 South County Trail\, North Kingstown\, RI\, 02852\, United States
CATEGORIES:Bible Studies
ATTACH;FMTTYPE=image/png:https://lhcc.info/wp-content/uploads/2024/12/Wed-Bible-Study.png
GEO:41.5556183;-71.5189401
X-APPLE-STRUCTURED-LOCATION;VALUE=URI;X-ADDRESS=Living Hope Christian Church 730 South County Trail North Kingstown RI 02852 United States;X-APPLE-RADIUS=500;X-TITLE=730 South County Trail:geo:-71.5189401,41.5556183
END:VEVENT
BEGIN:VEVENT
DTSTART;TZID=America/New_York:20260806T100000
DTEND;TZID=America/New_York:20260806T110000
DTSTAMP:20260423T185927
CREATED:20250606T152922Z
LAST-MODIFIED:20250606T153128Z
UID:10011116-1786010400-1786014000@lhcc.info
SUMMARY:Thursday Morning Bible Study
DESCRIPTION:Join us for this weekly Bible study led by Pastor Peter on Thursdays at 10am\nYou can meet with us in person at the church or from home through this ZOOM LINK
URL:https://lhcc.info/event/thursday-morning-bible-study-4-2/2026-08-06/
LOCATION:Living Hope Christian Church\, 730 South County Trail\, North Kingstown\, RI\, 02852\, United States
CATEGORIES:Bible Studies
ATTACH;FMTTYPE=image/png:https://lhcc.info/wp-content/uploads/2024/12/Thurs-Bible-Study.png
GEO:41.5556183;-71.5189401
X-APPLE-STRUCTURED-LOCATION;VALUE=URI;X-ADDRESS=Living Hope Christian Church 730 South County Trail North Kingstown RI 02852 United States;X-APPLE-RADIUS=500;X-TITLE=730 South County Trail:geo:-71.5189401,41.5556183
END:VEVENT
BEGIN:VEVENT
DTSTART;TZID=America/New_York:20260808T070000
DTEND;TZID=America/New_York:20260808T080000
DTSTAMP:20260423T185927
CREATED:20250606T154232Z
LAST-MODIFIED:20250606T154355Z
UID:10011181-1786172400-1786176000@lhcc.info
SUMMARY:Saturday Morning Bible Study
DESCRIPTION:Join us for this weekly “early risers” Bible study led by Mike DeFransesco on Saturdays at 7am\nYou can meet with us in person at the church or from home through this ZOOM LINK.
URL:https://lhcc.info/event/saturday-morning-bible-study-4-2/2026-08-08/
LOCATION:Living Hope Christian Church\, 730 South County Trail\, North Kingstown\, RI\, 02852\, United States
CATEGORIES:Bible Studies
ATTACH;FMTTYPE=image/png:https://lhcc.info/wp-content/uploads/2024/12/Sat-Bible-Study.png
GEO:41.5556183;-71.5189401
X-APPLE-STRUCTURED-LOCATION;VALUE=URI;X-ADDRESS=Living Hope Christian Church 730 South County Trail North Kingstown RI 02852 United States;X-APPLE-RADIUS=500;X-TITLE=730 South County Trail:geo:-71.5189401,41.5556183
END:VEVENT
BEGIN:VEVENT
DTSTART;TZID=America/New_York:20260812T193000
DTEND;TZID=America/New_York:20260812T203000
DTSTAMP:20260423T185927
CREATED:20250606T152527Z
LAST-MODIFIED:20250606T152651Z
UID:10010986-1786563000-1786566600@lhcc.info
SUMMARY:Wednesday Night Bible Study
DESCRIPTION:Join us for this weekly Bible study led by Pastor Peter on Wednesdays at 7:30pm\nYou can meet with us in person at the church or from home through this ZOOM LINK.
URL:https://lhcc.info/event/wednesday-night-bible-study-6-2/2026-08-12/
LOCATION:Living Hope Christian Church\, 730 South County Trail\, North Kingstown\, RI\, 02852\, United States
CATEGORIES:Bible Studies
ATTACH;FMTTYPE=image/png:https://lhcc.info/wp-content/uploads/2024/12/Wed-Bible-Study.png
GEO:41.5556183;-71.5189401
X-APPLE-STRUCTURED-LOCATION;VALUE=URI;X-ADDRESS=Living Hope Christian Church 730 South County Trail North Kingstown RI 02852 United States;X-APPLE-RADIUS=500;X-TITLE=730 South County Trail:geo:-71.5189401,41.5556183
END:VEVENT
BEGIN:VEVENT
DTSTART;TZID=America/New_York:20260813T100000
DTEND;TZID=America/New_York:20260813T110000
DTSTAMP:20260423T185927
CREATED:20250606T152922Z
LAST-MODIFIED:20250606T153128Z
UID:10011117-1786615200-1786618800@lhcc.info
SUMMARY:Thursday Morning Bible Study
DESCRIPTION:Join us for this weekly Bible study led by Pastor Peter on Thursdays at 10am\nYou can meet with us in person at the church or from home through this ZOOM LINK
URL:https://lhcc.info/event/thursday-morning-bible-study-4-2/2026-08-13/
LOCATION:Living Hope Christian Church\, 730 South County Trail\, North Kingstown\, RI\, 02852\, United States
CATEGORIES:Bible Studies
ATTACH;FMTTYPE=image/png:https://lhcc.info/wp-content/uploads/2024/12/Thurs-Bible-Study.png
GEO:41.5556183;-71.5189401
X-APPLE-STRUCTURED-LOCATION;VALUE=URI;X-ADDRESS=Living Hope Christian Church 730 South County Trail North Kingstown RI 02852 United States;X-APPLE-RADIUS=500;X-TITLE=730 South County Trail:geo:-71.5189401,41.5556183
END:VEVENT
BEGIN:VEVENT
DTSTART;TZID=America/New_York:20260815T070000
DTEND;TZID=America/New_York:20260815T080000
DTSTAMP:20260423T185927
CREATED:20250606T154232Z
LAST-MODIFIED:20250606T154355Z
UID:10011182-1786777200-1786780800@lhcc.info
SUMMARY:Saturday Morning Bible Study
DESCRIPTION:Join us for this weekly “early risers” Bible study led by Mike DeFransesco on Saturdays at 7am\nYou can meet with us in person at the church or from home through this ZOOM LINK.
URL:https://lhcc.info/event/saturday-morning-bible-study-4-2/2026-08-15/
LOCATION:Living Hope Christian Church\, 730 South County Trail\, North Kingstown\, RI\, 02852\, United States
CATEGORIES:Bible Studies
ATTACH;FMTTYPE=image/png:https://lhcc.info/wp-content/uploads/2024/12/Sat-Bible-Study.png
GEO:41.5556183;-71.5189401
X-APPLE-STRUCTURED-LOCATION;VALUE=URI;X-ADDRESS=Living Hope Christian Church 730 South County Trail North Kingstown RI 02852 United States;X-APPLE-RADIUS=500;X-TITLE=730 South County Trail:geo:-71.5189401,41.5556183
END:VEVENT
BEGIN:VEVENT
DTSTART;TZID=America/New_York:20260819T193000
DTEND;TZID=America/New_York:20260819T203000
DTSTAMP:20260423T185927
CREATED:20250606T152527Z
LAST-MODIFIED:20250606T152651Z
UID:10010987-1787167800-1787171400@lhcc.info
SUMMARY:Wednesday Night Bible Study
DESCRIPTION:Join us for this weekly Bible study led by Pastor Peter on Wednesdays at 7:30pm\nYou can meet with us in person at the church or from home through this ZOOM LINK.
URL:https://lhcc.info/event/wednesday-night-bible-study-6-2/2026-08-19/
LOCATION:Living Hope Christian Church\, 730 South County Trail\, North Kingstown\, RI\, 02852\, United States
CATEGORIES:Bible Studies
ATTACH;FMTTYPE=image/png:https://lhcc.info/wp-content/uploads/2024/12/Wed-Bible-Study.png
GEO:41.5556183;-71.5189401
X-APPLE-STRUCTURED-LOCATION;VALUE=URI;X-ADDRESS=Living Hope Christian Church 730 South County Trail North Kingstown RI 02852 United States;X-APPLE-RADIUS=500;X-TITLE=730 South County Trail:geo:-71.5189401,41.5556183
END:VEVENT
BEGIN:VEVENT
DTSTART;TZID=America/New_York:20260820T100000
DTEND;TZID=America/New_York:20260820T110000
DTSTAMP:20260423T185927
CREATED:20250606T152922Z
LAST-MODIFIED:20250606T153128Z
UID:10011118-1787220000-1787223600@lhcc.info
SUMMARY:Thursday Morning Bible Study
DESCRIPTION:Join us for this weekly Bible study led by Pastor Peter on Thursdays at 10am\nYou can meet with us in person at the church or from home through this ZOOM LINK
URL:https://lhcc.info/event/thursday-morning-bible-study-4-2/2026-08-20/
LOCATION:Living Hope Christian Church\, 730 South County Trail\, North Kingstown\, RI\, 02852\, United States
CATEGORIES:Bible Studies
ATTACH;FMTTYPE=image/png:https://lhcc.info/wp-content/uploads/2024/12/Thurs-Bible-Study.png
GEO:41.5556183;-71.5189401
X-APPLE-STRUCTURED-LOCATION;VALUE=URI;X-ADDRESS=Living Hope Christian Church 730 South County Trail North Kingstown RI 02852 United States;X-APPLE-RADIUS=500;X-TITLE=730 South County Trail:geo:-71.5189401,41.5556183
END:VEVENT
BEGIN:VEVENT
DTSTART;TZID=America/New_York:20260822T070000
DTEND;TZID=America/New_York:20260822T080000
DTSTAMP:20260423T185927
CREATED:20250606T154232Z
LAST-MODIFIED:20250606T154355Z
UID:10011183-1787382000-1787385600@lhcc.info
SUMMARY:Saturday Morning Bible Study
DESCRIPTION:Join us for this weekly “early risers” Bible study led by Mike DeFransesco on Saturdays at 7am\nYou can meet with us in person at the church or from home through this ZOOM LINK.
URL:https://lhcc.info/event/saturday-morning-bible-study-4-2/2026-08-22/
LOCATION:Living Hope Christian Church\, 730 South County Trail\, North Kingstown\, RI\, 02852\, United States
CATEGORIES:Bible Studies
ATTACH;FMTTYPE=image/png:https://lhcc.info/wp-content/uploads/2024/12/Sat-Bible-Study.png
GEO:41.5556183;-71.5189401
X-APPLE-STRUCTURED-LOCATION;VALUE=URI;X-ADDRESS=Living Hope Christian Church 730 South County Trail North Kingstown RI 02852 United States;X-APPLE-RADIUS=500;X-TITLE=730 South County Trail:geo:-71.5189401,41.5556183
END:VEVENT
BEGIN:VEVENT
DTSTART;TZID=America/New_York:20260826T193000
DTEND;TZID=America/New_York:20260826T203000
DTSTAMP:20260423T185927
CREATED:20250606T152527Z
LAST-MODIFIED:20250606T152651Z
UID:10010988-1787772600-1787776200@lhcc.info
SUMMARY:Wednesday Night Bible Study
DESCRIPTION:Join us for this weekly Bible study led by Pastor Peter on Wednesdays at 7:30pm\nYou can meet with us in person at the church or from home through this ZOOM LINK.
URL:https://lhcc.info/event/wednesday-night-bible-study-6-2/2026-08-26/
LOCATION:Living Hope Christian Church\, 730 South County Trail\, North Kingstown\, RI\, 02852\, United States
CATEGORIES:Bible Studies
ATTACH;FMTTYPE=image/png:https://lhcc.info/wp-content/uploads/2024/12/Wed-Bible-Study.png
GEO:41.5556183;-71.5189401
X-APPLE-STRUCTURED-LOCATION;VALUE=URI;X-ADDRESS=Living Hope Christian Church 730 South County Trail North Kingstown RI 02852 United States;X-APPLE-RADIUS=500;X-TITLE=730 South County Trail:geo:-71.5189401,41.5556183
END:VEVENT
BEGIN:VEVENT
DTSTART;TZID=America/New_York:20260827T100000
DTEND;TZID=America/New_York:20260827T110000
DTSTAMP:20260423T185927
CREATED:20250606T152922Z
LAST-MODIFIED:20250606T153128Z
UID:10011119-1787824800-1787828400@lhcc.info
SUMMARY:Thursday Morning Bible Study
DESCRIPTION:Join us for this weekly Bible study led by Pastor Peter on Thursdays at 10am\nYou can meet with us in person at the church or from home through this ZOOM LINK
URL:https://lhcc.info/event/thursday-morning-bible-study-4-2/2026-08-27/
LOCATION:Living Hope Christian Church\, 730 South County Trail\, North Kingstown\, RI\, 02852\, United States
CATEGORIES:Bible Studies
ATTACH;FMTTYPE=image/png:https://lhcc.info/wp-content/uploads/2024/12/Thurs-Bible-Study.png
GEO:41.5556183;-71.5189401
X-APPLE-STRUCTURED-LOCATION;VALUE=URI;X-ADDRESS=Living Hope Christian Church 730 South County Trail North Kingstown RI 02852 United States;X-APPLE-RADIUS=500;X-TITLE=730 South County Trail:geo:-71.5189401,41.5556183
END:VEVENT
BEGIN:VEVENT
DTSTART;TZID=America/New_York:20260829T070000
DTEND;TZID=America/New_York:20260829T080000
DTSTAMP:20260423T185927
CREATED:20250606T154232Z
LAST-MODIFIED:20250606T154355Z
UID:10011184-1787986800-1787990400@lhcc.info
SUMMARY:Saturday Morning Bible Study
DESCRIPTION:Join us for this weekly “early risers” Bible study led by Mike DeFransesco on Saturdays at 7am\nYou can meet with us in person at the church or from home through this ZOOM LINK.
URL:https://lhcc.info/event/saturday-morning-bible-study-4-2/2026-08-29/
LOCATION:Living Hope Christian Church\, 730 South County Trail\, North Kingstown\, RI\, 02852\, United States
CATEGORIES:Bible Studies
ATTACH;FMTTYPE=image/png:https://lhcc.info/wp-content/uploads/2024/12/Sat-Bible-Study.png
GEO:41.5556183;-71.5189401
X-APPLE-STRUCTURED-LOCATION;VALUE=URI;X-ADDRESS=Living Hope Christian Church 730 South County Trail North Kingstown RI 02852 United States;X-APPLE-RADIUS=500;X-TITLE=730 South County Trail:geo:-71.5189401,41.5556183
END:VEVENT
END:VCALENDAR