BEGIN:VCALENDAR
VERSION:2.0
PRODID:-//Living Hope Christian Church - ECPv6.15.17.1//NONSGML v1.0//EN
CALSCALE:GREGORIAN
METHOD:PUBLISH
X-ORIGINAL-URL:https://lhcc.info
X-WR-CALDESC:Events for Living Hope Christian Church
REFRESH-INTERVAL;VALUE=DURATION:PT1H
X-Robots-Tag:noindex
X-PUBLISHED-TTL:PT1H
BEGIN:VTIMEZONE
TZID:America/New_York
BEGIN:DAYLIGHT
TZOFFSETFROM:-0500
TZOFFSETTO:-0400
TZNAME:EDT
DTSTART:20250309T070000
END:DAYLIGHT
BEGIN:STANDARD
TZOFFSETFROM:-0400
TZOFFSETTO:-0500
TZNAME:EST
DTSTART:20251102T060000
END:STANDARD
BEGIN:DAYLIGHT
TZOFFSETFROM:-0500
TZOFFSETTO:-0400
TZNAME:EDT
DTSTART:20260308T070000
END:DAYLIGHT
BEGIN:STANDARD
TZOFFSETFROM:-0400
TZOFFSETTO:-0500
TZNAME:EST
DTSTART:20261101T060000
END:STANDARD
BEGIN:DAYLIGHT
TZOFFSETFROM:-0500
TZOFFSETTO:-0400
TZNAME:EDT
DTSTART:20270314T070000
END:DAYLIGHT
BEGIN:STANDARD
TZOFFSETFROM:-0400
TZOFFSETTO:-0500
TZNAME:EST
DTSTART:20271107T060000
END:STANDARD
END:VTIMEZONE
BEGIN:VEVENT
DTSTART;TZID=America/New_York:20260701T193000
DTEND;TZID=America/New_York:20260701T203000
DTSTAMP:20260423T173748
CREATED:20250606T152527Z
LAST-MODIFIED:20250606T152651Z
UID:10010980-1782934200-1782937800@lhcc.info
SUMMARY:Wednesday Night Bible Study
DESCRIPTION:Join us for this weekly Bible study led by Pastor Peter on Wednesdays at 7:30pm\nYou can meet with us in person at the church or from home through this ZOOM LINK.
URL:https://lhcc.info/event/wednesday-night-bible-study-6-2/2026-07-01/
LOCATION:Living Hope Christian Church\, 730 South County Trail\, North Kingstown\, RI\, 02852\, United States
CATEGORIES:Bible Studies
ATTACH;FMTTYPE=image/png:https://lhcc.info/wp-content/uploads/2024/12/Wed-Bible-Study.png
GEO:41.5556183;-71.5189401
X-APPLE-STRUCTURED-LOCATION;VALUE=URI;X-ADDRESS=Living Hope Christian Church 730 South County Trail North Kingstown RI 02852 United States;X-APPLE-RADIUS=500;X-TITLE=730 South County Trail:geo:-71.5189401,41.5556183
END:VEVENT
BEGIN:VEVENT
DTSTART;TZID=America/New_York:20260702T100000
DTEND;TZID=America/New_York:20260702T110000
DTSTAMP:20260423T173748
CREATED:20250606T152922Z
LAST-MODIFIED:20250606T153128Z
UID:10011111-1782986400-1782990000@lhcc.info
SUMMARY:Thursday Morning Bible Study
DESCRIPTION:Join us for this weekly Bible study led by Pastor Peter on Thursdays at 10am\nYou can meet with us in person at the church or from home through this ZOOM LINK
URL:https://lhcc.info/event/thursday-morning-bible-study-4-2/2026-07-02/
LOCATION:Living Hope Christian Church\, 730 South County Trail\, North Kingstown\, RI\, 02852\, United States
CATEGORIES:Bible Studies
ATTACH;FMTTYPE=image/png:https://lhcc.info/wp-content/uploads/2024/12/Thurs-Bible-Study.png
GEO:41.5556183;-71.5189401
X-APPLE-STRUCTURED-LOCATION;VALUE=URI;X-ADDRESS=Living Hope Christian Church 730 South County Trail North Kingstown RI 02852 United States;X-APPLE-RADIUS=500;X-TITLE=730 South County Trail:geo:-71.5189401,41.5556183
END:VEVENT
BEGIN:VEVENT
DTSTART;TZID=America/New_York:20260704T070000
DTEND;TZID=America/New_York:20260704T080000
DTSTAMP:20260423T173748
CREATED:20250606T154232Z
LAST-MODIFIED:20250606T154355Z
UID:10011176-1783148400-1783152000@lhcc.info
SUMMARY:Saturday Morning Bible Study
DESCRIPTION:Join us for this weekly “early risers” Bible study led by Mike DeFransesco on Saturdays at 7am\nYou can meet with us in person at the church or from home through this ZOOM LINK.
URL:https://lhcc.info/event/saturday-morning-bible-study-4-2/2026-07-04/
LOCATION:Living Hope Christian Church\, 730 South County Trail\, North Kingstown\, RI\, 02852\, United States
CATEGORIES:Bible Studies
ATTACH;FMTTYPE=image/png:https://lhcc.info/wp-content/uploads/2024/12/Sat-Bible-Study.png
GEO:41.5556183;-71.5189401
X-APPLE-STRUCTURED-LOCATION;VALUE=URI;X-ADDRESS=Living Hope Christian Church 730 South County Trail North Kingstown RI 02852 United States;X-APPLE-RADIUS=500;X-TITLE=730 South County Trail:geo:-71.5189401,41.5556183
END:VEVENT
BEGIN:VEVENT
DTSTART;TZID=America/New_York:20260708T193000
DTEND;TZID=America/New_York:20260708T203000
DTSTAMP:20260423T173748
CREATED:20250606T152527Z
LAST-MODIFIED:20250606T152651Z
UID:10010981-1783539000-1783542600@lhcc.info
SUMMARY:Wednesday Night Bible Study
DESCRIPTION:Join us for this weekly Bible study led by Pastor Peter on Wednesdays at 7:30pm\nYou can meet with us in person at the church or from home through this ZOOM LINK.
URL:https://lhcc.info/event/wednesday-night-bible-study-6-2/2026-07-08/
LOCATION:Living Hope Christian Church\, 730 South County Trail\, North Kingstown\, RI\, 02852\, United States
CATEGORIES:Bible Studies
ATTACH;FMTTYPE=image/png:https://lhcc.info/wp-content/uploads/2024/12/Wed-Bible-Study.png
GEO:41.5556183;-71.5189401
X-APPLE-STRUCTURED-LOCATION;VALUE=URI;X-ADDRESS=Living Hope Christian Church 730 South County Trail North Kingstown RI 02852 United States;X-APPLE-RADIUS=500;X-TITLE=730 South County Trail:geo:-71.5189401,41.5556183
END:VEVENT
BEGIN:VEVENT
DTSTART;TZID=America/New_York:20260709T100000
DTEND;TZID=America/New_York:20260709T110000
DTSTAMP:20260423T173748
CREATED:20250606T152922Z
LAST-MODIFIED:20250606T153128Z
UID:10011112-1783591200-1783594800@lhcc.info
SUMMARY:Thursday Morning Bible Study
DESCRIPTION:Join us for this weekly Bible study led by Pastor Peter on Thursdays at 10am\nYou can meet with us in person at the church or from home through this ZOOM LINK
URL:https://lhcc.info/event/thursday-morning-bible-study-4-2/2026-07-09/
LOCATION:Living Hope Christian Church\, 730 South County Trail\, North Kingstown\, RI\, 02852\, United States
CATEGORIES:Bible Studies
ATTACH;FMTTYPE=image/png:https://lhcc.info/wp-content/uploads/2024/12/Thurs-Bible-Study.png
GEO:41.5556183;-71.5189401
X-APPLE-STRUCTURED-LOCATION;VALUE=URI;X-ADDRESS=Living Hope Christian Church 730 South County Trail North Kingstown RI 02852 United States;X-APPLE-RADIUS=500;X-TITLE=730 South County Trail:geo:-71.5189401,41.5556183
END:VEVENT
BEGIN:VEVENT
DTSTART;TZID=America/New_York:20260711T070000
DTEND;TZID=America/New_York:20260711T080000
DTSTAMP:20260423T173748
CREATED:20250606T154232Z
LAST-MODIFIED:20250606T154355Z
UID:10011177-1783753200-1783756800@lhcc.info
SUMMARY:Saturday Morning Bible Study
DESCRIPTION:Join us for this weekly “early risers” Bible study led by Mike DeFransesco on Saturdays at 7am\nYou can meet with us in person at the church or from home through this ZOOM LINK.
URL:https://lhcc.info/event/saturday-morning-bible-study-4-2/2026-07-11/
LOCATION:Living Hope Christian Church\, 730 South County Trail\, North Kingstown\, RI\, 02852\, United States
CATEGORIES:Bible Studies
ATTACH;FMTTYPE=image/png:https://lhcc.info/wp-content/uploads/2024/12/Sat-Bible-Study.png
GEO:41.5556183;-71.5189401
X-APPLE-STRUCTURED-LOCATION;VALUE=URI;X-ADDRESS=Living Hope Christian Church 730 South County Trail North Kingstown RI 02852 United States;X-APPLE-RADIUS=500;X-TITLE=730 South County Trail:geo:-71.5189401,41.5556183
END:VEVENT
BEGIN:VEVENT
DTSTART;TZID=America/New_York:20260715T193000
DTEND;TZID=America/New_York:20260715T203000
DTSTAMP:20260423T173748
CREATED:20250606T152527Z
LAST-MODIFIED:20250606T152651Z
UID:10010982-1784143800-1784147400@lhcc.info
SUMMARY:Wednesday Night Bible Study
DESCRIPTION:Join us for this weekly Bible study led by Pastor Peter on Wednesdays at 7:30pm\nYou can meet with us in person at the church or from home through this ZOOM LINK.
URL:https://lhcc.info/event/wednesday-night-bible-study-6-2/2026-07-15/
LOCATION:Living Hope Christian Church\, 730 South County Trail\, North Kingstown\, RI\, 02852\, United States
CATEGORIES:Bible Studies
ATTACH;FMTTYPE=image/png:https://lhcc.info/wp-content/uploads/2024/12/Wed-Bible-Study.png
GEO:41.5556183;-71.5189401
X-APPLE-STRUCTURED-LOCATION;VALUE=URI;X-ADDRESS=Living Hope Christian Church 730 South County Trail North Kingstown RI 02852 United States;X-APPLE-RADIUS=500;X-TITLE=730 South County Trail:geo:-71.5189401,41.5556183
END:VEVENT
BEGIN:VEVENT
DTSTART;TZID=America/New_York:20260716T100000
DTEND;TZID=America/New_York:20260716T110000
DTSTAMP:20260423T173748
CREATED:20250606T152922Z
LAST-MODIFIED:20250606T153128Z
UID:10011113-1784196000-1784199600@lhcc.info
SUMMARY:Thursday Morning Bible Study
DESCRIPTION:Join us for this weekly Bible study led by Pastor Peter on Thursdays at 10am\nYou can meet with us in person at the church or from home through this ZOOM LINK
URL:https://lhcc.info/event/thursday-morning-bible-study-4-2/2026-07-16/
LOCATION:Living Hope Christian Church\, 730 South County Trail\, North Kingstown\, RI\, 02852\, United States
CATEGORIES:Bible Studies
ATTACH;FMTTYPE=image/png:https://lhcc.info/wp-content/uploads/2024/12/Thurs-Bible-Study.png
GEO:41.5556183;-71.5189401
X-APPLE-STRUCTURED-LOCATION;VALUE=URI;X-ADDRESS=Living Hope Christian Church 730 South County Trail North Kingstown RI 02852 United States;X-APPLE-RADIUS=500;X-TITLE=730 South County Trail:geo:-71.5189401,41.5556183
END:VEVENT
BEGIN:VEVENT
DTSTART;TZID=America/New_York:20260718T070000
DTEND;TZID=America/New_York:20260718T080000
DTSTAMP:20260423T173748
CREATED:20250606T154232Z
LAST-MODIFIED:20250606T154355Z
UID:10011178-1784358000-1784361600@lhcc.info
SUMMARY:Saturday Morning Bible Study
DESCRIPTION:Join us for this weekly “early risers” Bible study led by Mike DeFransesco on Saturdays at 7am\nYou can meet with us in person at the church or from home through this ZOOM LINK.
URL:https://lhcc.info/event/saturday-morning-bible-study-4-2/2026-07-18/
LOCATION:Living Hope Christian Church\, 730 South County Trail\, North Kingstown\, RI\, 02852\, United States
CATEGORIES:Bible Studies
ATTACH;FMTTYPE=image/png:https://lhcc.info/wp-content/uploads/2024/12/Sat-Bible-Study.png
GEO:41.5556183;-71.5189401
X-APPLE-STRUCTURED-LOCATION;VALUE=URI;X-ADDRESS=Living Hope Christian Church 730 South County Trail North Kingstown RI 02852 United States;X-APPLE-RADIUS=500;X-TITLE=730 South County Trail:geo:-71.5189401,41.5556183
END:VEVENT
BEGIN:VEVENT
DTSTART;TZID=America/New_York:20260722T193000
DTEND;TZID=America/New_York:20260722T203000
DTSTAMP:20260423T173748
CREATED:20250606T152527Z
LAST-MODIFIED:20250606T152651Z
UID:10010983-1784748600-1784752200@lhcc.info
SUMMARY:Wednesday Night Bible Study
DESCRIPTION:Join us for this weekly Bible study led by Pastor Peter on Wednesdays at 7:30pm\nYou can meet with us in person at the church or from home through this ZOOM LINK.
URL:https://lhcc.info/event/wednesday-night-bible-study-6-2/2026-07-22/
LOCATION:Living Hope Christian Church\, 730 South County Trail\, North Kingstown\, RI\, 02852\, United States
CATEGORIES:Bible Studies
ATTACH;FMTTYPE=image/png:https://lhcc.info/wp-content/uploads/2024/12/Wed-Bible-Study.png
GEO:41.5556183;-71.5189401
X-APPLE-STRUCTURED-LOCATION;VALUE=URI;X-ADDRESS=Living Hope Christian Church 730 South County Trail North Kingstown RI 02852 United States;X-APPLE-RADIUS=500;X-TITLE=730 South County Trail:geo:-71.5189401,41.5556183
END:VEVENT
BEGIN:VEVENT
DTSTART;TZID=America/New_York:20260723T100000
DTEND;TZID=America/New_York:20260723T110000
DTSTAMP:20260423T173748
CREATED:20250606T152922Z
LAST-MODIFIED:20250606T153128Z
UID:10011114-1784800800-1784804400@lhcc.info
SUMMARY:Thursday Morning Bible Study
DESCRIPTION:Join us for this weekly Bible study led by Pastor Peter on Thursdays at 10am\nYou can meet with us in person at the church or from home through this ZOOM LINK
URL:https://lhcc.info/event/thursday-morning-bible-study-4-2/2026-07-23/
LOCATION:Living Hope Christian Church\, 730 South County Trail\, North Kingstown\, RI\, 02852\, United States
CATEGORIES:Bible Studies
ATTACH;FMTTYPE=image/png:https://lhcc.info/wp-content/uploads/2024/12/Thurs-Bible-Study.png
GEO:41.5556183;-71.5189401
X-APPLE-STRUCTURED-LOCATION;VALUE=URI;X-ADDRESS=Living Hope Christian Church 730 South County Trail North Kingstown RI 02852 United States;X-APPLE-RADIUS=500;X-TITLE=730 South County Trail:geo:-71.5189401,41.5556183
END:VEVENT
BEGIN:VEVENT
DTSTART;TZID=America/New_York:20260725T070000
DTEND;TZID=America/New_York:20260725T080000
DTSTAMP:20260423T173748
CREATED:20250606T154232Z
LAST-MODIFIED:20250606T154355Z
UID:10011179-1784962800-1784966400@lhcc.info
SUMMARY:Saturday Morning Bible Study
DESCRIPTION:Join us for this weekly “early risers” Bible study led by Mike DeFransesco on Saturdays at 7am\nYou can meet with us in person at the church or from home through this ZOOM LINK.
URL:https://lhcc.info/event/saturday-morning-bible-study-4-2/2026-07-25/
LOCATION:Living Hope Christian Church\, 730 South County Trail\, North Kingstown\, RI\, 02852\, United States
CATEGORIES:Bible Studies
ATTACH;FMTTYPE=image/png:https://lhcc.info/wp-content/uploads/2024/12/Sat-Bible-Study.png
GEO:41.5556183;-71.5189401
X-APPLE-STRUCTURED-LOCATION;VALUE=URI;X-ADDRESS=Living Hope Christian Church 730 South County Trail North Kingstown RI 02852 United States;X-APPLE-RADIUS=500;X-TITLE=730 South County Trail:geo:-71.5189401,41.5556183
END:VEVENT
BEGIN:VEVENT
DTSTART;TZID=America/New_York:20260729T193000
DTEND;TZID=America/New_York:20260729T203000
DTSTAMP:20260423T173748
CREATED:20250606T152527Z
LAST-MODIFIED:20250606T152651Z
UID:10010984-1785353400-1785357000@lhcc.info
SUMMARY:Wednesday Night Bible Study
DESCRIPTION:Join us for this weekly Bible study led by Pastor Peter on Wednesdays at 7:30pm\nYou can meet with us in person at the church or from home through this ZOOM LINK.
URL:https://lhcc.info/event/wednesday-night-bible-study-6-2/2026-07-29/
LOCATION:Living Hope Christian Church\, 730 South County Trail\, North Kingstown\, RI\, 02852\, United States
CATEGORIES:Bible Studies
ATTACH;FMTTYPE=image/png:https://lhcc.info/wp-content/uploads/2024/12/Wed-Bible-Study.png
GEO:41.5556183;-71.5189401
X-APPLE-STRUCTURED-LOCATION;VALUE=URI;X-ADDRESS=Living Hope Christian Church 730 South County Trail North Kingstown RI 02852 United States;X-APPLE-RADIUS=500;X-TITLE=730 South County Trail:geo:-71.5189401,41.5556183
END:VEVENT
BEGIN:VEVENT
DTSTART;TZID=America/New_York:20260730T100000
DTEND;TZID=America/New_York:20260730T110000
DTSTAMP:20260423T173748
CREATED:20250606T152922Z
LAST-MODIFIED:20250606T153128Z
UID:10011115-1785405600-1785409200@lhcc.info
SUMMARY:Thursday Morning Bible Study
DESCRIPTION:Join us for this weekly Bible study led by Pastor Peter on Thursdays at 10am\nYou can meet with us in person at the church or from home through this ZOOM LINK
URL:https://lhcc.info/event/thursday-morning-bible-study-4-2/2026-07-30/
LOCATION:Living Hope Christian Church\, 730 South County Trail\, North Kingstown\, RI\, 02852\, United States
CATEGORIES:Bible Studies
ATTACH;FMTTYPE=image/png:https://lhcc.info/wp-content/uploads/2024/12/Thurs-Bible-Study.png
GEO:41.5556183;-71.5189401
X-APPLE-STRUCTURED-LOCATION;VALUE=URI;X-ADDRESS=Living Hope Christian Church 730 South County Trail North Kingstown RI 02852 United States;X-APPLE-RADIUS=500;X-TITLE=730 South County Trail:geo:-71.5189401,41.5556183
END:VEVENT
END:VCALENDAR