BEGIN:VCALENDAR
VERSION:2.0
PRODID:-//Living Hope Christian Church - ECPv6.15.17.1//NONSGML v1.0//EN
CALSCALE:GREGORIAN
METHOD:PUBLISH
X-ORIGINAL-URL:https://lhcc.info
X-WR-CALDESC:Events for Living Hope Christian Church
REFRESH-INTERVAL;VALUE=DURATION:PT1H
X-Robots-Tag:noindex
X-PUBLISHED-TTL:PT1H
BEGIN:VTIMEZONE
TZID:America/New_York
BEGIN:DAYLIGHT
TZOFFSETFROM:-0500
TZOFFSETTO:-0400
TZNAME:EDT
DTSTART:20250309T070000
END:DAYLIGHT
BEGIN:STANDARD
TZOFFSETFROM:-0400
TZOFFSETTO:-0500
TZNAME:EST
DTSTART:20251102T060000
END:STANDARD
BEGIN:DAYLIGHT
TZOFFSETFROM:-0500
TZOFFSETTO:-0400
TZNAME:EDT
DTSTART:20260308T070000
END:DAYLIGHT
BEGIN:STANDARD
TZOFFSETFROM:-0400
TZOFFSETTO:-0500
TZNAME:EST
DTSTART:20261101T060000
END:STANDARD
BEGIN:DAYLIGHT
TZOFFSETFROM:-0500
TZOFFSETTO:-0400
TZNAME:EDT
DTSTART:20270314T070000
END:DAYLIGHT
BEGIN:STANDARD
TZOFFSETFROM:-0400
TZOFFSETTO:-0500
TZNAME:EST
DTSTART:20271107T060000
END:STANDARD
END:VTIMEZONE
BEGIN:VEVENT
DTSTART;TZID=America/New_York:20260103T070000
DTEND;TZID=America/New_York:20260103T080000
DTSTAMP:20260423T203751
CREATED:20250606T154232Z
LAST-MODIFIED:20250606T154355Z
UID:10011150-1767423600-1767427200@lhcc.info
SUMMARY:Saturday Morning Bible Study
DESCRIPTION:Join us for this weekly “early risers” Bible study led by Mike DeFransesco on Saturdays at 7am\nYou can meet with us in person at the church or from home through this ZOOM LINK.
URL:https://lhcc.info/event/saturday-morning-bible-study-4-2/2026-01-03/
LOCATION:Living Hope Christian Church\, 730 South County Trail\, North Kingstown\, RI\, 02852\, United States
CATEGORIES:Bible Studies
ATTACH;FMTTYPE=image/png:https://lhcc.info/wp-content/uploads/2024/12/Sat-Bible-Study.png
GEO:41.5556183;-71.5189401
X-APPLE-STRUCTURED-LOCATION;VALUE=URI;X-ADDRESS=Living Hope Christian Church 730 South County Trail North Kingstown RI 02852 United States;X-APPLE-RADIUS=500;X-TITLE=730 South County Trail:geo:-71.5189401,41.5556183
END:VEVENT
BEGIN:VEVENT
DTSTART;TZID=America/New_York:20260107T193000
DTEND;TZID=America/New_York:20260107T203000
DTSTAMP:20260423T203751
CREATED:20250606T152527Z
LAST-MODIFIED:20250606T152651Z
UID:10010955-1767814200-1767817800@lhcc.info
SUMMARY:Wednesday Night Bible Study
DESCRIPTION:Join us for this weekly Bible study led by Pastor Peter on Wednesdays at 7:30pm\nYou can meet with us in person at the church or from home through this ZOOM LINK.
URL:https://lhcc.info/event/wednesday-night-bible-study-6-2/2026-01-07/
LOCATION:Living Hope Christian Church\, 730 South County Trail\, North Kingstown\, RI\, 02852\, United States
CATEGORIES:Bible Studies
ATTACH;FMTTYPE=image/png:https://lhcc.info/wp-content/uploads/2024/12/Wed-Bible-Study.png
GEO:41.5556183;-71.5189401
X-APPLE-STRUCTURED-LOCATION;VALUE=URI;X-ADDRESS=Living Hope Christian Church 730 South County Trail North Kingstown RI 02852 United States;X-APPLE-RADIUS=500;X-TITLE=730 South County Trail:geo:-71.5189401,41.5556183
END:VEVENT
BEGIN:VEVENT
DTSTART;TZID=America/New_York:20260108T100000
DTEND;TZID=America/New_York:20260108T110000
DTSTAMP:20260423T203751
CREATED:20250606T152922Z
LAST-MODIFIED:20250606T153128Z
UID:10011086-1767866400-1767870000@lhcc.info
SUMMARY:Thursday Morning Bible Study
DESCRIPTION:Join us for this weekly Bible study led by Pastor Peter on Thursdays at 10am\nYou can meet with us in person at the church or from home through this ZOOM LINK
URL:https://lhcc.info/event/thursday-morning-bible-study-4-2/2026-01-08/
LOCATION:Living Hope Christian Church\, 730 South County Trail\, North Kingstown\, RI\, 02852\, United States
CATEGORIES:Bible Studies
ATTACH;FMTTYPE=image/png:https://lhcc.info/wp-content/uploads/2024/12/Thurs-Bible-Study.png
GEO:41.5556183;-71.5189401
X-APPLE-STRUCTURED-LOCATION;VALUE=URI;X-ADDRESS=Living Hope Christian Church 730 South County Trail North Kingstown RI 02852 United States;X-APPLE-RADIUS=500;X-TITLE=730 South County Trail:geo:-71.5189401,41.5556183
END:VEVENT
BEGIN:VEVENT
DTSTART;TZID=America/New_York:20260110T070000
DTEND;TZID=America/New_York:20260110T080000
DTSTAMP:20260423T203751
CREATED:20250606T154232Z
LAST-MODIFIED:20250606T154355Z
UID:10011151-1768028400-1768032000@lhcc.info
SUMMARY:Saturday Morning Bible Study
DESCRIPTION:Join us for this weekly “early risers” Bible study led by Mike DeFransesco on Saturdays at 7am\nYou can meet with us in person at the church or from home through this ZOOM LINK.
URL:https://lhcc.info/event/saturday-morning-bible-study-4-2/2026-01-10/
LOCATION:Living Hope Christian Church\, 730 South County Trail\, North Kingstown\, RI\, 02852\, United States
CATEGORIES:Bible Studies
ATTACH;FMTTYPE=image/png:https://lhcc.info/wp-content/uploads/2024/12/Sat-Bible-Study.png
GEO:41.5556183;-71.5189401
X-APPLE-STRUCTURED-LOCATION;VALUE=URI;X-ADDRESS=Living Hope Christian Church 730 South County Trail North Kingstown RI 02852 United States;X-APPLE-RADIUS=500;X-TITLE=730 South County Trail:geo:-71.5189401,41.5556183
END:VEVENT
BEGIN:VEVENT
DTSTART;TZID=America/New_York:20260114T193000
DTEND;TZID=America/New_York:20260114T203000
DTSTAMP:20260423T203751
CREATED:20250606T152527Z
LAST-MODIFIED:20250606T152651Z
UID:10010956-1768419000-1768422600@lhcc.info
SUMMARY:Wednesday Night Bible Study
DESCRIPTION:Join us for this weekly Bible study led by Pastor Peter on Wednesdays at 7:30pm\nYou can meet with us in person at the church or from home through this ZOOM LINK.
URL:https://lhcc.info/event/wednesday-night-bible-study-6-2/2026-01-14/
LOCATION:Living Hope Christian Church\, 730 South County Trail\, North Kingstown\, RI\, 02852\, United States
CATEGORIES:Bible Studies
ATTACH;FMTTYPE=image/png:https://lhcc.info/wp-content/uploads/2024/12/Wed-Bible-Study.png
GEO:41.5556183;-71.5189401
X-APPLE-STRUCTURED-LOCATION;VALUE=URI;X-ADDRESS=Living Hope Christian Church 730 South County Trail North Kingstown RI 02852 United States;X-APPLE-RADIUS=500;X-TITLE=730 South County Trail:geo:-71.5189401,41.5556183
END:VEVENT
BEGIN:VEVENT
DTSTART;TZID=America/New_York:20260115T100000
DTEND;TZID=America/New_York:20260115T110000
DTSTAMP:20260423T203751
CREATED:20250606T152922Z
LAST-MODIFIED:20250606T153128Z
UID:10011087-1768471200-1768474800@lhcc.info
SUMMARY:Thursday Morning Bible Study
DESCRIPTION:Join us for this weekly Bible study led by Pastor Peter on Thursdays at 10am\nYou can meet with us in person at the church or from home through this ZOOM LINK
URL:https://lhcc.info/event/thursday-morning-bible-study-4-2/2026-01-15/
LOCATION:Living Hope Christian Church\, 730 South County Trail\, North Kingstown\, RI\, 02852\, United States
CATEGORIES:Bible Studies
ATTACH;FMTTYPE=image/png:https://lhcc.info/wp-content/uploads/2024/12/Thurs-Bible-Study.png
GEO:41.5556183;-71.5189401
X-APPLE-STRUCTURED-LOCATION;VALUE=URI;X-ADDRESS=Living Hope Christian Church 730 South County Trail North Kingstown RI 02852 United States;X-APPLE-RADIUS=500;X-TITLE=730 South County Trail:geo:-71.5189401,41.5556183
END:VEVENT
BEGIN:VEVENT
DTSTART;TZID=America/New_York:20260117T070000
DTEND;TZID=America/New_York:20260117T080000
DTSTAMP:20260423T203751
CREATED:20250606T154232Z
LAST-MODIFIED:20250606T154355Z
UID:10011152-1768633200-1768636800@lhcc.info
SUMMARY:Saturday Morning Bible Study
DESCRIPTION:Join us for this weekly “early risers” Bible study led by Mike DeFransesco on Saturdays at 7am\nYou can meet with us in person at the church or from home through this ZOOM LINK.
URL:https://lhcc.info/event/saturday-morning-bible-study-4-2/2026-01-17/
LOCATION:Living Hope Christian Church\, 730 South County Trail\, North Kingstown\, RI\, 02852\, United States
CATEGORIES:Bible Studies
ATTACH;FMTTYPE=image/png:https://lhcc.info/wp-content/uploads/2024/12/Sat-Bible-Study.png
GEO:41.5556183;-71.5189401
X-APPLE-STRUCTURED-LOCATION;VALUE=URI;X-ADDRESS=Living Hope Christian Church 730 South County Trail North Kingstown RI 02852 United States;X-APPLE-RADIUS=500;X-TITLE=730 South County Trail:geo:-71.5189401,41.5556183
END:VEVENT
BEGIN:VEVENT
DTSTART;TZID=America/New_York:20260121T193000
DTEND;TZID=America/New_York:20260121T203000
DTSTAMP:20260423T203751
CREATED:20250606T152527Z
LAST-MODIFIED:20250606T152651Z
UID:10010957-1769023800-1769027400@lhcc.info
SUMMARY:Wednesday Night Bible Study
DESCRIPTION:Join us for this weekly Bible study led by Pastor Peter on Wednesdays at 7:30pm\nYou can meet with us in person at the church or from home through this ZOOM LINK.
URL:https://lhcc.info/event/wednesday-night-bible-study-6-2/2026-01-21/
LOCATION:Living Hope Christian Church\, 730 South County Trail\, North Kingstown\, RI\, 02852\, United States
CATEGORIES:Bible Studies
ATTACH;FMTTYPE=image/png:https://lhcc.info/wp-content/uploads/2024/12/Wed-Bible-Study.png
GEO:41.5556183;-71.5189401
X-APPLE-STRUCTURED-LOCATION;VALUE=URI;X-ADDRESS=Living Hope Christian Church 730 South County Trail North Kingstown RI 02852 United States;X-APPLE-RADIUS=500;X-TITLE=730 South County Trail:geo:-71.5189401,41.5556183
END:VEVENT
BEGIN:VEVENT
DTSTART;TZID=America/New_York:20260122T100000
DTEND;TZID=America/New_York:20260122T110000
DTSTAMP:20260423T203751
CREATED:20250606T152922Z
LAST-MODIFIED:20250606T153128Z
UID:10011088-1769076000-1769079600@lhcc.info
SUMMARY:Thursday Morning Bible Study
DESCRIPTION:Join us for this weekly Bible study led by Pastor Peter on Thursdays at 10am\nYou can meet with us in person at the church or from home through this ZOOM LINK
URL:https://lhcc.info/event/thursday-morning-bible-study-4-2/2026-01-22/
LOCATION:Living Hope Christian Church\, 730 South County Trail\, North Kingstown\, RI\, 02852\, United States
CATEGORIES:Bible Studies
ATTACH;FMTTYPE=image/png:https://lhcc.info/wp-content/uploads/2024/12/Thurs-Bible-Study.png
GEO:41.5556183;-71.5189401
X-APPLE-STRUCTURED-LOCATION;VALUE=URI;X-ADDRESS=Living Hope Christian Church 730 South County Trail North Kingstown RI 02852 United States;X-APPLE-RADIUS=500;X-TITLE=730 South County Trail:geo:-71.5189401,41.5556183
END:VEVENT
BEGIN:VEVENT
DTSTART;TZID=America/New_York:20260124T070000
DTEND;TZID=America/New_York:20260124T080000
DTSTAMP:20260423T203751
CREATED:20250606T154232Z
LAST-MODIFIED:20250606T154355Z
UID:10011153-1769238000-1769241600@lhcc.info
SUMMARY:Saturday Morning Bible Study
DESCRIPTION:Join us for this weekly “early risers” Bible study led by Mike DeFransesco on Saturdays at 7am\nYou can meet with us in person at the church or from home through this ZOOM LINK.
URL:https://lhcc.info/event/saturday-morning-bible-study-4-2/2026-01-24/
LOCATION:Living Hope Christian Church\, 730 South County Trail\, North Kingstown\, RI\, 02852\, United States
CATEGORIES:Bible Studies
ATTACH;FMTTYPE=image/png:https://lhcc.info/wp-content/uploads/2024/12/Sat-Bible-Study.png
GEO:41.5556183;-71.5189401
X-APPLE-STRUCTURED-LOCATION;VALUE=URI;X-ADDRESS=Living Hope Christian Church 730 South County Trail North Kingstown RI 02852 United States;X-APPLE-RADIUS=500;X-TITLE=730 South County Trail:geo:-71.5189401,41.5556183
END:VEVENT
BEGIN:VEVENT
DTSTART;TZID=America/New_York:20260128T193000
DTEND;TZID=America/New_York:20260128T203000
DTSTAMP:20260423T203751
CREATED:20250606T152527Z
LAST-MODIFIED:20250606T152651Z
UID:10010958-1769628600-1769632200@lhcc.info
SUMMARY:Wednesday Night Bible Study
DESCRIPTION:Join us for this weekly Bible study led by Pastor Peter on Wednesdays at 7:30pm\nYou can meet with us in person at the church or from home through this ZOOM LINK.
URL:https://lhcc.info/event/wednesday-night-bible-study-6-2/2026-01-28/
LOCATION:Living Hope Christian Church\, 730 South County Trail\, North Kingstown\, RI\, 02852\, United States
CATEGORIES:Bible Studies
ATTACH;FMTTYPE=image/png:https://lhcc.info/wp-content/uploads/2024/12/Wed-Bible-Study.png
GEO:41.5556183;-71.5189401
X-APPLE-STRUCTURED-LOCATION;VALUE=URI;X-ADDRESS=Living Hope Christian Church 730 South County Trail North Kingstown RI 02852 United States;X-APPLE-RADIUS=500;X-TITLE=730 South County Trail:geo:-71.5189401,41.5556183
END:VEVENT
BEGIN:VEVENT
DTSTART;TZID=America/New_York:20260129T100000
DTEND;TZID=America/New_York:20260129T110000
DTSTAMP:20260423T203751
CREATED:20250606T152922Z
LAST-MODIFIED:20250606T153128Z
UID:10011089-1769680800-1769684400@lhcc.info
SUMMARY:Thursday Morning Bible Study
DESCRIPTION:Join us for this weekly Bible study led by Pastor Peter on Thursdays at 10am\nYou can meet with us in person at the church or from home through this ZOOM LINK
URL:https://lhcc.info/event/thursday-morning-bible-study-4-2/2026-01-29/
LOCATION:Living Hope Christian Church\, 730 South County Trail\, North Kingstown\, RI\, 02852\, United States
CATEGORIES:Bible Studies
ATTACH;FMTTYPE=image/png:https://lhcc.info/wp-content/uploads/2024/12/Thurs-Bible-Study.png
GEO:41.5556183;-71.5189401
X-APPLE-STRUCTURED-LOCATION;VALUE=URI;X-ADDRESS=Living Hope Christian Church 730 South County Trail North Kingstown RI 02852 United States;X-APPLE-RADIUS=500;X-TITLE=730 South County Trail:geo:-71.5189401,41.5556183
END:VEVENT
BEGIN:VEVENT
DTSTART;TZID=America/New_York:20260131T070000
DTEND;TZID=America/New_York:20260131T080000
DTSTAMP:20260423T203751
CREATED:20250606T154232Z
LAST-MODIFIED:20250606T154355Z
UID:10011154-1769842800-1769846400@lhcc.info
SUMMARY:Saturday Morning Bible Study
DESCRIPTION:Join us for this weekly “early risers” Bible study led by Mike DeFransesco on Saturdays at 7am\nYou can meet with us in person at the church or from home through this ZOOM LINK.
URL:https://lhcc.info/event/saturday-morning-bible-study-4-2/2026-01-31/
LOCATION:Living Hope Christian Church\, 730 South County Trail\, North Kingstown\, RI\, 02852\, United States
CATEGORIES:Bible Studies
ATTACH;FMTTYPE=image/png:https://lhcc.info/wp-content/uploads/2024/12/Sat-Bible-Study.png
GEO:41.5556183;-71.5189401
X-APPLE-STRUCTURED-LOCATION;VALUE=URI;X-ADDRESS=Living Hope Christian Church 730 South County Trail North Kingstown RI 02852 United States;X-APPLE-RADIUS=500;X-TITLE=730 South County Trail:geo:-71.5189401,41.5556183
END:VEVENT
END:VCALENDAR