BEGIN:VCALENDAR
VERSION:2.0
PRODID:-//Living Hope Christian Church - ECPv6.15.17.1//NONSGML v1.0//EN
CALSCALE:GREGORIAN
METHOD:PUBLISH
X-ORIGINAL-URL:https://lhcc.info
X-WR-CALDESC:Events for Living Hope Christian Church
REFRESH-INTERVAL;VALUE=DURATION:PT1H
X-Robots-Tag:noindex
X-PUBLISHED-TTL:PT1H
BEGIN:VTIMEZONE
TZID:America/New_York
BEGIN:DAYLIGHT
TZOFFSETFROM:-0500
TZOFFSETTO:-0400
TZNAME:EDT
DTSTART:20240310T070000
END:DAYLIGHT
BEGIN:STANDARD
TZOFFSETFROM:-0400
TZOFFSETTO:-0500
TZNAME:EST
DTSTART:20241103T060000
END:STANDARD
BEGIN:DAYLIGHT
TZOFFSETFROM:-0500
TZOFFSETTO:-0400
TZNAME:EDT
DTSTART:20250309T070000
END:DAYLIGHT
BEGIN:STANDARD
TZOFFSETFROM:-0400
TZOFFSETTO:-0500
TZNAME:EST
DTSTART:20251102T060000
END:STANDARD
BEGIN:DAYLIGHT
TZOFFSETFROM:-0500
TZOFFSETTO:-0400
TZNAME:EDT
DTSTART:20260308T070000
END:DAYLIGHT
BEGIN:STANDARD
TZOFFSETFROM:-0400
TZOFFSETTO:-0500
TZNAME:EST
DTSTART:20261101T060000
END:STANDARD
END:VTIMEZONE
BEGIN:VEVENT
DTSTART;TZID=America/New_York:20251203T193000
DTEND;TZID=America/New_York:20251203T203000
DTSTAMP:20260423T203750
CREATED:20250606T152527Z
LAST-MODIFIED:20250606T152651Z
UID:10010950-1764790200-1764793800@lhcc.info
SUMMARY:Wednesday Night Bible Study
DESCRIPTION:Join us for this weekly Bible study led by Pastor Peter on Wednesdays at 7:30pm\nYou can meet with us in person at the church or from home through this ZOOM LINK.
URL:https://lhcc.info/event/wednesday-night-bible-study-6-2/2025-12-03/
LOCATION:Living Hope Christian Church\, 730 South County Trail\, North Kingstown\, RI\, 02852\, United States
CATEGORIES:Bible Studies
ATTACH;FMTTYPE=image/png:https://lhcc.info/wp-content/uploads/2024/12/Wed-Bible-Study.png
GEO:41.5556183;-71.5189401
X-APPLE-STRUCTURED-LOCATION;VALUE=URI;X-ADDRESS=Living Hope Christian Church 730 South County Trail North Kingstown RI 02852 United States;X-APPLE-RADIUS=500;X-TITLE=730 South County Trail:geo:-71.5189401,41.5556183
END:VEVENT
BEGIN:VEVENT
DTSTART;TZID=America/New_York:20251204T100000
DTEND;TZID=America/New_York:20251204T110000
DTSTAMP:20260423T203750
CREATED:20250606T152922Z
LAST-MODIFIED:20250606T153128Z
UID:10011081-1764842400-1764846000@lhcc.info
SUMMARY:Thursday Morning Bible Study
DESCRIPTION:Join us for this weekly Bible study led by Pastor Peter on Thursdays at 10am\nYou can meet with us in person at the church or from home through this ZOOM LINK
URL:https://lhcc.info/event/thursday-morning-bible-study-4-2/2025-12-04/
LOCATION:Living Hope Christian Church\, 730 South County Trail\, North Kingstown\, RI\, 02852\, United States
CATEGORIES:Bible Studies
ATTACH;FMTTYPE=image/png:https://lhcc.info/wp-content/uploads/2024/12/Thurs-Bible-Study.png
GEO:41.5556183;-71.5189401
X-APPLE-STRUCTURED-LOCATION;VALUE=URI;X-ADDRESS=Living Hope Christian Church 730 South County Trail North Kingstown RI 02852 United States;X-APPLE-RADIUS=500;X-TITLE=730 South County Trail:geo:-71.5189401,41.5556183
END:VEVENT
BEGIN:VEVENT
DTSTART;TZID=America/New_York:20251206T070000
DTEND;TZID=America/New_York:20251206T080000
DTSTAMP:20260423T203750
CREATED:20250606T154232Z
LAST-MODIFIED:20250606T154355Z
UID:10011146-1765004400-1765008000@lhcc.info
SUMMARY:Saturday Morning Bible Study
DESCRIPTION:Join us for this weekly “early risers” Bible study led by Mike DeFransesco on Saturdays at 7am\nYou can meet with us in person at the church or from home through this ZOOM LINK.
URL:https://lhcc.info/event/saturday-morning-bible-study-4-2/2025-12-06/
LOCATION:Living Hope Christian Church\, 730 South County Trail\, North Kingstown\, RI\, 02852\, United States
CATEGORIES:Bible Studies
ATTACH;FMTTYPE=image/png:https://lhcc.info/wp-content/uploads/2024/12/Sat-Bible-Study.png
GEO:41.5556183;-71.5189401
X-APPLE-STRUCTURED-LOCATION;VALUE=URI;X-ADDRESS=Living Hope Christian Church 730 South County Trail North Kingstown RI 02852 United States;X-APPLE-RADIUS=500;X-TITLE=730 South County Trail:geo:-71.5189401,41.5556183
END:VEVENT
BEGIN:VEVENT
DTSTART;TZID=America/New_York:20251210T193000
DTEND;TZID=America/New_York:20251210T203000
DTSTAMP:20260423T203750
CREATED:20250606T152527Z
LAST-MODIFIED:20250606T152651Z
UID:10010951-1765395000-1765398600@lhcc.info
SUMMARY:Wednesday Night Bible Study
DESCRIPTION:Join us for this weekly Bible study led by Pastor Peter on Wednesdays at 7:30pm\nYou can meet with us in person at the church or from home through this ZOOM LINK.
URL:https://lhcc.info/event/wednesday-night-bible-study-6-2/2025-12-10/
LOCATION:Living Hope Christian Church\, 730 South County Trail\, North Kingstown\, RI\, 02852\, United States
CATEGORIES:Bible Studies
ATTACH;FMTTYPE=image/png:https://lhcc.info/wp-content/uploads/2024/12/Wed-Bible-Study.png
GEO:41.5556183;-71.5189401
X-APPLE-STRUCTURED-LOCATION;VALUE=URI;X-ADDRESS=Living Hope Christian Church 730 South County Trail North Kingstown RI 02852 United States;X-APPLE-RADIUS=500;X-TITLE=730 South County Trail:geo:-71.5189401,41.5556183
END:VEVENT
BEGIN:VEVENT
DTSTART;TZID=America/New_York:20251211T100000
DTEND;TZID=America/New_York:20251211T110000
DTSTAMP:20260423T203750
CREATED:20250606T152922Z
LAST-MODIFIED:20250606T153128Z
UID:10011082-1765447200-1765450800@lhcc.info
SUMMARY:Thursday Morning Bible Study
DESCRIPTION:Join us for this weekly Bible study led by Pastor Peter on Thursdays at 10am\nYou can meet with us in person at the church or from home through this ZOOM LINK
URL:https://lhcc.info/event/thursday-morning-bible-study-4-2/2025-12-11/
LOCATION:Living Hope Christian Church\, 730 South County Trail\, North Kingstown\, RI\, 02852\, United States
CATEGORIES:Bible Studies
ATTACH;FMTTYPE=image/png:https://lhcc.info/wp-content/uploads/2024/12/Thurs-Bible-Study.png
GEO:41.5556183;-71.5189401
X-APPLE-STRUCTURED-LOCATION;VALUE=URI;X-ADDRESS=Living Hope Christian Church 730 South County Trail North Kingstown RI 02852 United States;X-APPLE-RADIUS=500;X-TITLE=730 South County Trail:geo:-71.5189401,41.5556183
END:VEVENT
BEGIN:VEVENT
DTSTART;TZID=America/New_York:20251213T070000
DTEND;TZID=America/New_York:20251213T080000
DTSTAMP:20260423T203750
CREATED:20250606T154232Z
LAST-MODIFIED:20250606T154355Z
UID:10011147-1765609200-1765612800@lhcc.info
SUMMARY:Saturday Morning Bible Study
DESCRIPTION:Join us for this weekly “early risers” Bible study led by Mike DeFransesco on Saturdays at 7am\nYou can meet with us in person at the church or from home through this ZOOM LINK.
URL:https://lhcc.info/event/saturday-morning-bible-study-4-2/2025-12-13/
LOCATION:Living Hope Christian Church\, 730 South County Trail\, North Kingstown\, RI\, 02852\, United States
CATEGORIES:Bible Studies
ATTACH;FMTTYPE=image/png:https://lhcc.info/wp-content/uploads/2024/12/Sat-Bible-Study.png
GEO:41.5556183;-71.5189401
X-APPLE-STRUCTURED-LOCATION;VALUE=URI;X-ADDRESS=Living Hope Christian Church 730 South County Trail North Kingstown RI 02852 United States;X-APPLE-RADIUS=500;X-TITLE=730 South County Trail:geo:-71.5189401,41.5556183
END:VEVENT
BEGIN:VEVENT
DTSTART;TZID=America/New_York:20251217T193000
DTEND;TZID=America/New_York:20251217T203000
DTSTAMP:20260423T203750
CREATED:20250606T152527Z
LAST-MODIFIED:20250606T152651Z
UID:10010952-1765999800-1766003400@lhcc.info
SUMMARY:Wednesday Night Bible Study
DESCRIPTION:Join us for this weekly Bible study led by Pastor Peter on Wednesdays at 7:30pm\nYou can meet with us in person at the church or from home through this ZOOM LINK.
URL:https://lhcc.info/event/wednesday-night-bible-study-6-2/2025-12-17/
LOCATION:Living Hope Christian Church\, 730 South County Trail\, North Kingstown\, RI\, 02852\, United States
CATEGORIES:Bible Studies
ATTACH;FMTTYPE=image/png:https://lhcc.info/wp-content/uploads/2024/12/Wed-Bible-Study.png
GEO:41.5556183;-71.5189401
X-APPLE-STRUCTURED-LOCATION;VALUE=URI;X-ADDRESS=Living Hope Christian Church 730 South County Trail North Kingstown RI 02852 United States;X-APPLE-RADIUS=500;X-TITLE=730 South County Trail:geo:-71.5189401,41.5556183
END:VEVENT
BEGIN:VEVENT
DTSTART;TZID=America/New_York:20251218T100000
DTEND;TZID=America/New_York:20251218T110000
DTSTAMP:20260423T203750
CREATED:20250606T152922Z
LAST-MODIFIED:20250606T153128Z
UID:10011083-1766052000-1766055600@lhcc.info
SUMMARY:Thursday Morning Bible Study
DESCRIPTION:Join us for this weekly Bible study led by Pastor Peter on Thursdays at 10am\nYou can meet with us in person at the church or from home through this ZOOM LINK
URL:https://lhcc.info/event/thursday-morning-bible-study-4-2/2025-12-18/
LOCATION:Living Hope Christian Church\, 730 South County Trail\, North Kingstown\, RI\, 02852\, United States
CATEGORIES:Bible Studies
ATTACH;FMTTYPE=image/png:https://lhcc.info/wp-content/uploads/2024/12/Thurs-Bible-Study.png
GEO:41.5556183;-71.5189401
X-APPLE-STRUCTURED-LOCATION;VALUE=URI;X-ADDRESS=Living Hope Christian Church 730 South County Trail North Kingstown RI 02852 United States;X-APPLE-RADIUS=500;X-TITLE=730 South County Trail:geo:-71.5189401,41.5556183
END:VEVENT
BEGIN:VEVENT
DTSTART;TZID=America/New_York:20251220T070000
DTEND;TZID=America/New_York:20251220T080000
DTSTAMP:20260423T203750
CREATED:20250606T154232Z
LAST-MODIFIED:20250606T154355Z
UID:10011148-1766214000-1766217600@lhcc.info
SUMMARY:Saturday Morning Bible Study
DESCRIPTION:Join us for this weekly “early risers” Bible study led by Mike DeFransesco on Saturdays at 7am\nYou can meet with us in person at the church or from home through this ZOOM LINK.
URL:https://lhcc.info/event/saturday-morning-bible-study-4-2/2025-12-20/
LOCATION:Living Hope Christian Church\, 730 South County Trail\, North Kingstown\, RI\, 02852\, United States
CATEGORIES:Bible Studies
ATTACH;FMTTYPE=image/png:https://lhcc.info/wp-content/uploads/2024/12/Sat-Bible-Study.png
GEO:41.5556183;-71.5189401
X-APPLE-STRUCTURED-LOCATION;VALUE=URI;X-ADDRESS=Living Hope Christian Church 730 South County Trail North Kingstown RI 02852 United States;X-APPLE-RADIUS=500;X-TITLE=730 South County Trail:geo:-71.5189401,41.5556183
END:VEVENT
BEGIN:VEVENT
DTSTART;TZID=America/New_York:20251227T070000
DTEND;TZID=America/New_York:20251227T080000
DTSTAMP:20260423T203750
CREATED:20250606T154232Z
LAST-MODIFIED:20250606T154355Z
UID:10011149-1766818800-1766822400@lhcc.info
SUMMARY:Saturday Morning Bible Study
DESCRIPTION:Join us for this weekly “early risers” Bible study led by Mike DeFransesco on Saturdays at 7am\nYou can meet with us in person at the church or from home through this ZOOM LINK.
URL:https://lhcc.info/event/saturday-morning-bible-study-4-2/2025-12-27/
LOCATION:Living Hope Christian Church\, 730 South County Trail\, North Kingstown\, RI\, 02852\, United States
CATEGORIES:Bible Studies
ATTACH;FMTTYPE=image/png:https://lhcc.info/wp-content/uploads/2024/12/Sat-Bible-Study.png
GEO:41.5556183;-71.5189401
X-APPLE-STRUCTURED-LOCATION;VALUE=URI;X-ADDRESS=Living Hope Christian Church 730 South County Trail North Kingstown RI 02852 United States;X-APPLE-RADIUS=500;X-TITLE=730 South County Trail:geo:-71.5189401,41.5556183
END:VEVENT
END:VCALENDAR