BEGIN:VCALENDAR
VERSION:2.0
PRODID:-//Living Hope Christian Church - ECPv6.15.17.1//NONSGML v1.0//EN
CALSCALE:GREGORIAN
METHOD:PUBLISH
X-WR-CALNAME:Living Hope Christian Church
X-ORIGINAL-URL:https://lhcc.info
X-WR-CALDESC:Events for Living Hope Christian Church
REFRESH-INTERVAL;VALUE=DURATION:PT1H
X-Robots-Tag:noindex
X-PUBLISHED-TTL:PT1H
BEGIN:VTIMEZONE
TZID:America/New_York
BEGIN:DAYLIGHT
TZOFFSETFROM:-0500
TZOFFSETTO:-0400
TZNAME:EDT
DTSTART:20230312T070000
END:DAYLIGHT
BEGIN:STANDARD
TZOFFSETFROM:-0400
TZOFFSETTO:-0500
TZNAME:EST
DTSTART:20231105T060000
END:STANDARD
BEGIN:DAYLIGHT
TZOFFSETFROM:-0500
TZOFFSETTO:-0400
TZNAME:EDT
DTSTART:20240310T070000
END:DAYLIGHT
BEGIN:STANDARD
TZOFFSETFROM:-0400
TZOFFSETTO:-0500
TZNAME:EST
DTSTART:20241103T060000
END:STANDARD
BEGIN:DAYLIGHT
TZOFFSETFROM:-0500
TZOFFSETTO:-0400
TZNAME:EDT
DTSTART:20250309T070000
END:DAYLIGHT
BEGIN:STANDARD
TZOFFSETFROM:-0400
TZOFFSETTO:-0500
TZNAME:EST
DTSTART:20251102T060000
END:STANDARD
END:VTIMEZONE
BEGIN:VEVENT
DTSTART;TZID=America/New_York:20240501T183000
DTEND;TZID=America/New_York:20240501T193000
DTSTAMP:20260425T061846
CREATED:20160830T195401Z
LAST-MODIFIED:20180102T154200Z
UID:10002214-1714588200-1714591800@lhcc.info
SUMMARY:Wednesday Night Bible Study
DESCRIPTION:We’re studying God’s Word together at Living Hope every Wednesday night and Thursday morning! Join us at either one of these times for a great Bible study led by Pastor Peter Atkin in a small group discussion format. You’ll be encouraged\, challenged\, and transformed!
URL:https://lhcc.info/event/wednesday-night-bible-study/2024-05-01/
LOCATION:Living Hope Christian Church\, 730 South County Trail\, North Kingstown\, RI\, 02852\, United States
CATEGORIES:Bible Studies
ATTACH;FMTTYPE=image/jpeg:https://lhcc.info/wp-content/uploads/2015/01/wednesday-bible-study-north-kingstown-church.jpg
GEO:41.5556183;-71.5189401
X-APPLE-STRUCTURED-LOCATION;VALUE=URI;X-ADDRESS=Living Hope Christian Church 730 South County Trail North Kingstown RI 02852 United States;X-APPLE-RADIUS=500;X-TITLE=730 South County Trail:geo:-71.5189401,41.5556183
END:VEVENT
BEGIN:VEVENT
DTSTART;TZID=America/New_York:20240501T193000
DTEND;TZID=America/New_York:20240501T203000
DTSTAMP:20260425T061846
CREATED:20221216T220500Z
LAST-MODIFIED:20240326T180700Z
UID:10005610-1714591800-1714595400@lhcc.info
SUMMARY:Wednesday Night Bible Study
DESCRIPTION:Join us at 7:30pm for our Wednesday Night Bible study led by Pastor Peter.\nYou can join in person at the church or from home through this ZOOM Link.
URL:https://lhcc.info/event/wednesday-night-bible-study-5-2024-03-27/2024-05-01/
LOCATION:Living Hope Christian Church\, 730 South County Trail\, North Kingstown\, RI\, 02852\, United States
CATEGORIES:Bible Studies
ATTACH;FMTTYPE=image/jpeg:https://lhcc.info/wp-content/uploads/2022/12/Untitled-Facebook-Post.jpg
GEO:41.5556183;-71.5189401
X-APPLE-STRUCTURED-LOCATION;VALUE=URI;X-ADDRESS=Living Hope Christian Church 730 South County Trail North Kingstown RI 02852 United States;X-APPLE-RADIUS=500;X-TITLE=730 South County Trail:geo:-71.5189401,41.5556183
END:VEVENT
BEGIN:VEVENT
DTSTART;TZID=America/New_York:20240502T100000
DTEND;TZID=America/New_York:20240502T110000
DTSTAMP:20260425T061846
CREATED:20221216T220752Z
LAST-MODIFIED:20240326T180745Z
UID:10005665-1714644000-1714647600@lhcc.info
SUMMARY:Thursday Morning Bible Study
DESCRIPTION:Join us at 10am for our Bible study led by Pastor Peter.\nYou can meet in person at the church or from home through this ZOOM Link.
URL:https://lhcc.info/event/thursday-morning-bible-study-3-2024-03-28/2024-05-02/
LOCATION:Living Hope Christian Church\, 730 South County Trail\, North Kingstown\, RI\, 02852\, United States
CATEGORIES:Bible Studies
ATTACH;FMTTYPE=image/jpeg:https://lhcc.info/wp-content/uploads/2022/12/Untitled-Facebook-Post.jpg
GEO:41.5556183;-71.5189401
X-APPLE-STRUCTURED-LOCATION;VALUE=URI;X-ADDRESS=Living Hope Christian Church 730 South County Trail North Kingstown RI 02852 United States;X-APPLE-RADIUS=500;X-TITLE=730 South County Trail:geo:-71.5189401,41.5556183
END:VEVENT
BEGIN:VEVENT
DTSTART;TZID=America/New_York:20240504T070000
DTEND;TZID=America/New_York:20240504T080000
DTSTAMP:20260425T061846
CREATED:20221216T221028Z
LAST-MODIFIED:20240326T180918Z
UID:10006614-1714806000-1714809600@lhcc.info
SUMMARY:Saturday Morning Bible Study
DESCRIPTION:Join us at 7am for our “Early Risers” Bible study led by Mike DeFrancesco.\nIf you are unable to meet in person\, you can join from home through this ZOOM Link.
URL:https://lhcc.info/event/saturday-morning-bible-study-3-2023-09-02-2024-04-27/2024-05-04/
LOCATION:Living Hope Christian Church\, 730 South County Trail\, North Kingstown\, RI\, 02852\, United States
CATEGORIES:Bible Studies
ATTACH;FMTTYPE=image/jpeg:https://lhcc.info/wp-content/uploads/2022/12/Untitled-Facebook-Post.jpg
GEO:41.5556183;-71.5189401
X-APPLE-STRUCTURED-LOCATION;VALUE=URI;X-ADDRESS=Living Hope Christian Church 730 South County Trail North Kingstown RI 02852 United States;X-APPLE-RADIUS=500;X-TITLE=730 South County Trail:geo:-71.5189401,41.5556183
END:VEVENT
BEGIN:VEVENT
DTSTART;TZID=America/New_York:20240505T080000
DTEND;TZID=America/New_York:20240505T084500
DTSTAMP:20260425T061846
CREATED:20160830T200212Z
LAST-MODIFIED:20170218T124644Z
UID:10001654-1714896000-1714898700@lhcc.info
SUMMARY:Adult Sunday School
DESCRIPTION:Looking for a weekend Bible study? Join us in Classroom 1 at 9 am every Sunday morning for a small group study led by a rotation of teachers. Each teacher is given several weeks to cover the topic of their choice. Teens are welcome at this study! (We’re sorry\, but there is no child care available.)
URL:https://lhcc.info/event/adult-sunday-school/2024-05-05/
LOCATION:Living Hope Christian Church\, 730 South County Trail\, North Kingstown\, RI\, 02852\, United States
CATEGORIES:Bible Studies
ATTACH;FMTTYPE=image/jpeg:https://lhcc.info/wp-content/uploads/2016/09/bible-study-north-kingstown-churches.jpg
GEO:41.5556183;-71.5189401
X-APPLE-STRUCTURED-LOCATION;VALUE=URI;X-ADDRESS=Living Hope Christian Church 730 South County Trail North Kingstown RI 02852 United States;X-APPLE-RADIUS=500;X-TITLE=730 South County Trail:geo:-71.5189401,41.5556183
END:VEVENT
BEGIN:VEVENT
DTSTART;TZID=America/New_York:20240508T183000
DTEND;TZID=America/New_York:20240508T193000
DTSTAMP:20260425T061846
CREATED:20160830T195401Z
LAST-MODIFIED:20180102T154200Z
UID:10002215-1715193000-1715196600@lhcc.info
SUMMARY:Wednesday Night Bible Study
DESCRIPTION:We’re studying God’s Word together at Living Hope every Wednesday night and Thursday morning! Join us at either one of these times for a great Bible study led by Pastor Peter Atkin in a small group discussion format. You’ll be encouraged\, challenged\, and transformed!
URL:https://lhcc.info/event/wednesday-night-bible-study/2024-05-08/
LOCATION:Living Hope Christian Church\, 730 South County Trail\, North Kingstown\, RI\, 02852\, United States
CATEGORIES:Bible Studies
ATTACH;FMTTYPE=image/jpeg:https://lhcc.info/wp-content/uploads/2015/01/wednesday-bible-study-north-kingstown-church.jpg
GEO:41.5556183;-71.5189401
X-APPLE-STRUCTURED-LOCATION;VALUE=URI;X-ADDRESS=Living Hope Christian Church 730 South County Trail North Kingstown RI 02852 United States;X-APPLE-RADIUS=500;X-TITLE=730 South County Trail:geo:-71.5189401,41.5556183
END:VEVENT
BEGIN:VEVENT
DTSTART;TZID=America/New_York:20240508T193000
DTEND;TZID=America/New_York:20240508T203000
DTSTAMP:20260425T061846
CREATED:20221216T220500Z
LAST-MODIFIED:20240326T180700Z
UID:10005611-1715196600-1715200200@lhcc.info
SUMMARY:Wednesday Night Bible Study
DESCRIPTION:Join us at 7:30pm for our Wednesday Night Bible study led by Pastor Peter.\nYou can join in person at the church or from home through this ZOOM Link.
URL:https://lhcc.info/event/wednesday-night-bible-study-5-2024-03-27/2024-05-08/
LOCATION:Living Hope Christian Church\, 730 South County Trail\, North Kingstown\, RI\, 02852\, United States
CATEGORIES:Bible Studies
ATTACH;FMTTYPE=image/jpeg:https://lhcc.info/wp-content/uploads/2022/12/Untitled-Facebook-Post.jpg
GEO:41.5556183;-71.5189401
X-APPLE-STRUCTURED-LOCATION;VALUE=URI;X-ADDRESS=Living Hope Christian Church 730 South County Trail North Kingstown RI 02852 United States;X-APPLE-RADIUS=500;X-TITLE=730 South County Trail:geo:-71.5189401,41.5556183
END:VEVENT
BEGIN:VEVENT
DTSTART;TZID=America/New_York:20240509T100000
DTEND;TZID=America/New_York:20240509T110000
DTSTAMP:20260425T061846
CREATED:20221216T220752Z
LAST-MODIFIED:20240326T180745Z
UID:10005666-1715248800-1715252400@lhcc.info
SUMMARY:Thursday Morning Bible Study
DESCRIPTION:Join us at 10am for our Bible study led by Pastor Peter.\nYou can meet in person at the church or from home through this ZOOM Link.
URL:https://lhcc.info/event/thursday-morning-bible-study-3-2024-03-28/2024-05-09/
LOCATION:Living Hope Christian Church\, 730 South County Trail\, North Kingstown\, RI\, 02852\, United States
CATEGORIES:Bible Studies
ATTACH;FMTTYPE=image/jpeg:https://lhcc.info/wp-content/uploads/2022/12/Untitled-Facebook-Post.jpg
GEO:41.5556183;-71.5189401
X-APPLE-STRUCTURED-LOCATION;VALUE=URI;X-ADDRESS=Living Hope Christian Church 730 South County Trail North Kingstown RI 02852 United States;X-APPLE-RADIUS=500;X-TITLE=730 South County Trail:geo:-71.5189401,41.5556183
END:VEVENT
BEGIN:VEVENT
DTSTART;TZID=America/New_York:20240511T070000
DTEND;TZID=America/New_York:20240511T080000
DTSTAMP:20260425T061846
CREATED:20221216T221028Z
LAST-MODIFIED:20240326T180918Z
UID:10006615-1715410800-1715414400@lhcc.info
SUMMARY:Saturday Morning Bible Study
DESCRIPTION:Join us at 7am for our “Early Risers” Bible study led by Mike DeFrancesco.\nIf you are unable to meet in person\, you can join from home through this ZOOM Link.
URL:https://lhcc.info/event/saturday-morning-bible-study-3-2023-09-02-2024-04-27/2024-05-11/
LOCATION:Living Hope Christian Church\, 730 South County Trail\, North Kingstown\, RI\, 02852\, United States
CATEGORIES:Bible Studies
ATTACH;FMTTYPE=image/jpeg:https://lhcc.info/wp-content/uploads/2022/12/Untitled-Facebook-Post.jpg
GEO:41.5556183;-71.5189401
X-APPLE-STRUCTURED-LOCATION;VALUE=URI;X-ADDRESS=Living Hope Christian Church 730 South County Trail North Kingstown RI 02852 United States;X-APPLE-RADIUS=500;X-TITLE=730 South County Trail:geo:-71.5189401,41.5556183
END:VEVENT
BEGIN:VEVENT
DTSTART;TZID=America/New_York:20240512T080000
DTEND;TZID=America/New_York:20240512T084500
DTSTAMP:20260425T061846
CREATED:20160830T200212Z
LAST-MODIFIED:20170218T124644Z
UID:10001655-1715500800-1715503500@lhcc.info
SUMMARY:Adult Sunday School
DESCRIPTION:Looking for a weekend Bible study? Join us in Classroom 1 at 9 am every Sunday morning for a small group study led by a rotation of teachers. Each teacher is given several weeks to cover the topic of their choice. Teens are welcome at this study! (We’re sorry\, but there is no child care available.)
URL:https://lhcc.info/event/adult-sunday-school/2024-05-12/
LOCATION:Living Hope Christian Church\, 730 South County Trail\, North Kingstown\, RI\, 02852\, United States
CATEGORIES:Bible Studies
ATTACH;FMTTYPE=image/jpeg:https://lhcc.info/wp-content/uploads/2016/09/bible-study-north-kingstown-churches.jpg
GEO:41.5556183;-71.5189401
X-APPLE-STRUCTURED-LOCATION;VALUE=URI;X-ADDRESS=Living Hope Christian Church 730 South County Trail North Kingstown RI 02852 United States;X-APPLE-RADIUS=500;X-TITLE=730 South County Trail:geo:-71.5189401,41.5556183
END:VEVENT
BEGIN:VEVENT
DTSTART;TZID=America/New_York:20240515T183000
DTEND;TZID=America/New_York:20240515T193000
DTSTAMP:20260425T061846
CREATED:20160830T195401Z
LAST-MODIFIED:20180102T154200Z
UID:10002216-1715797800-1715801400@lhcc.info
SUMMARY:Wednesday Night Bible Study
DESCRIPTION:We’re studying God’s Word together at Living Hope every Wednesday night and Thursday morning! Join us at either one of these times for a great Bible study led by Pastor Peter Atkin in a small group discussion format. You’ll be encouraged\, challenged\, and transformed!
URL:https://lhcc.info/event/wednesday-night-bible-study/2024-05-15/
LOCATION:Living Hope Christian Church\, 730 South County Trail\, North Kingstown\, RI\, 02852\, United States
CATEGORIES:Bible Studies
ATTACH;FMTTYPE=image/jpeg:https://lhcc.info/wp-content/uploads/2015/01/wednesday-bible-study-north-kingstown-church.jpg
GEO:41.5556183;-71.5189401
X-APPLE-STRUCTURED-LOCATION;VALUE=URI;X-ADDRESS=Living Hope Christian Church 730 South County Trail North Kingstown RI 02852 United States;X-APPLE-RADIUS=500;X-TITLE=730 South County Trail:geo:-71.5189401,41.5556183
END:VEVENT
BEGIN:VEVENT
DTSTART;TZID=America/New_York:20240515T193000
DTEND;TZID=America/New_York:20240515T203000
DTSTAMP:20260425T061846
CREATED:20221216T220500Z
LAST-MODIFIED:20240326T180700Z
UID:10005612-1715801400-1715805000@lhcc.info
SUMMARY:Wednesday Night Bible Study
DESCRIPTION:Join us at 7:30pm for our Wednesday Night Bible study led by Pastor Peter.\nYou can join in person at the church or from home through this ZOOM Link.
URL:https://lhcc.info/event/wednesday-night-bible-study-5-2024-03-27/2024-05-15/
LOCATION:Living Hope Christian Church\, 730 South County Trail\, North Kingstown\, RI\, 02852\, United States
CATEGORIES:Bible Studies
ATTACH;FMTTYPE=image/jpeg:https://lhcc.info/wp-content/uploads/2022/12/Untitled-Facebook-Post.jpg
GEO:41.5556183;-71.5189401
X-APPLE-STRUCTURED-LOCATION;VALUE=URI;X-ADDRESS=Living Hope Christian Church 730 South County Trail North Kingstown RI 02852 United States;X-APPLE-RADIUS=500;X-TITLE=730 South County Trail:geo:-71.5189401,41.5556183
END:VEVENT
BEGIN:VEVENT
DTSTART;TZID=America/New_York:20240516T100000
DTEND;TZID=America/New_York:20240516T110000
DTSTAMP:20260425T061846
CREATED:20221216T220752Z
LAST-MODIFIED:20240326T180745Z
UID:10005667-1715853600-1715857200@lhcc.info
SUMMARY:Thursday Morning Bible Study
DESCRIPTION:Join us at 10am for our Bible study led by Pastor Peter.\nYou can meet in person at the church or from home through this ZOOM Link.
URL:https://lhcc.info/event/thursday-morning-bible-study-3-2024-03-28/2024-05-16/
LOCATION:Living Hope Christian Church\, 730 South County Trail\, North Kingstown\, RI\, 02852\, United States
CATEGORIES:Bible Studies
ATTACH;FMTTYPE=image/jpeg:https://lhcc.info/wp-content/uploads/2022/12/Untitled-Facebook-Post.jpg
GEO:41.5556183;-71.5189401
X-APPLE-STRUCTURED-LOCATION;VALUE=URI;X-ADDRESS=Living Hope Christian Church 730 South County Trail North Kingstown RI 02852 United States;X-APPLE-RADIUS=500;X-TITLE=730 South County Trail:geo:-71.5189401,41.5556183
END:VEVENT
BEGIN:VEVENT
DTSTART;TZID=America/New_York:20240518T070000
DTEND;TZID=America/New_York:20240518T080000
DTSTAMP:20260425T061846
CREATED:20221216T221028Z
LAST-MODIFIED:20240326T180918Z
UID:10006616-1716015600-1716019200@lhcc.info
SUMMARY:Saturday Morning Bible Study
DESCRIPTION:Join us at 7am for our “Early Risers” Bible study led by Mike DeFrancesco.\nIf you are unable to meet in person\, you can join from home through this ZOOM Link.
URL:https://lhcc.info/event/saturday-morning-bible-study-3-2023-09-02-2024-04-27/2024-05-18/
LOCATION:Living Hope Christian Church\, 730 South County Trail\, North Kingstown\, RI\, 02852\, United States
CATEGORIES:Bible Studies
ATTACH;FMTTYPE=image/jpeg:https://lhcc.info/wp-content/uploads/2022/12/Untitled-Facebook-Post.jpg
GEO:41.5556183;-71.5189401
X-APPLE-STRUCTURED-LOCATION;VALUE=URI;X-ADDRESS=Living Hope Christian Church 730 South County Trail North Kingstown RI 02852 United States;X-APPLE-RADIUS=500;X-TITLE=730 South County Trail:geo:-71.5189401,41.5556183
END:VEVENT
BEGIN:VEVENT
DTSTART;TZID=America/New_York:20240519T080000
DTEND;TZID=America/New_York:20240519T084500
DTSTAMP:20260425T061846
CREATED:20160830T200212Z
LAST-MODIFIED:20170218T124644Z
UID:10001656-1716105600-1716108300@lhcc.info
SUMMARY:Adult Sunday School
DESCRIPTION:Looking for a weekend Bible study? Join us in Classroom 1 at 9 am every Sunday morning for a small group study led by a rotation of teachers. Each teacher is given several weeks to cover the topic of their choice. Teens are welcome at this study! (We’re sorry\, but there is no child care available.)
URL:https://lhcc.info/event/adult-sunday-school/2024-05-19/
LOCATION:Living Hope Christian Church\, 730 South County Trail\, North Kingstown\, RI\, 02852\, United States
CATEGORIES:Bible Studies
ATTACH;FMTTYPE=image/jpeg:https://lhcc.info/wp-content/uploads/2016/09/bible-study-north-kingstown-churches.jpg
GEO:41.5556183;-71.5189401
X-APPLE-STRUCTURED-LOCATION;VALUE=URI;X-ADDRESS=Living Hope Christian Church 730 South County Trail North Kingstown RI 02852 United States;X-APPLE-RADIUS=500;X-TITLE=730 South County Trail:geo:-71.5189401,41.5556183
END:VEVENT
BEGIN:VEVENT
DTSTART;TZID=America/New_York:20240522T183000
DTEND;TZID=America/New_York:20240522T193000
DTSTAMP:20260425T061846
CREATED:20160830T195401Z
LAST-MODIFIED:20180102T154200Z
UID:10002217-1716402600-1716406200@lhcc.info
SUMMARY:Wednesday Night Bible Study
DESCRIPTION:We’re studying God’s Word together at Living Hope every Wednesday night and Thursday morning! Join us at either one of these times for a great Bible study led by Pastor Peter Atkin in a small group discussion format. You’ll be encouraged\, challenged\, and transformed!
URL:https://lhcc.info/event/wednesday-night-bible-study/2024-05-22/
LOCATION:Living Hope Christian Church\, 730 South County Trail\, North Kingstown\, RI\, 02852\, United States
CATEGORIES:Bible Studies
ATTACH;FMTTYPE=image/jpeg:https://lhcc.info/wp-content/uploads/2015/01/wednesday-bible-study-north-kingstown-church.jpg
GEO:41.5556183;-71.5189401
X-APPLE-STRUCTURED-LOCATION;VALUE=URI;X-ADDRESS=Living Hope Christian Church 730 South County Trail North Kingstown RI 02852 United States;X-APPLE-RADIUS=500;X-TITLE=730 South County Trail:geo:-71.5189401,41.5556183
END:VEVENT
BEGIN:VEVENT
DTSTART;TZID=America/New_York:20240522T193000
DTEND;TZID=America/New_York:20240522T203000
DTSTAMP:20260425T061846
CREATED:20221216T220500Z
LAST-MODIFIED:20240326T180700Z
UID:10005613-1716406200-1716409800@lhcc.info
SUMMARY:Wednesday Night Bible Study
DESCRIPTION:Join us at 7:30pm for our Wednesday Night Bible study led by Pastor Peter.\nYou can join in person at the church or from home through this ZOOM Link.
URL:https://lhcc.info/event/wednesday-night-bible-study-5-2024-03-27/2024-05-22/
LOCATION:Living Hope Christian Church\, 730 South County Trail\, North Kingstown\, RI\, 02852\, United States
CATEGORIES:Bible Studies
ATTACH;FMTTYPE=image/jpeg:https://lhcc.info/wp-content/uploads/2022/12/Untitled-Facebook-Post.jpg
GEO:41.5556183;-71.5189401
X-APPLE-STRUCTURED-LOCATION;VALUE=URI;X-ADDRESS=Living Hope Christian Church 730 South County Trail North Kingstown RI 02852 United States;X-APPLE-RADIUS=500;X-TITLE=730 South County Trail:geo:-71.5189401,41.5556183
END:VEVENT
BEGIN:VEVENT
DTSTART;TZID=America/New_York:20240523T100000
DTEND;TZID=America/New_York:20240523T110000
DTSTAMP:20260425T061846
CREATED:20221216T220752Z
LAST-MODIFIED:20240326T180745Z
UID:10005668-1716458400-1716462000@lhcc.info
SUMMARY:Thursday Morning Bible Study
DESCRIPTION:Join us at 10am for our Bible study led by Pastor Peter.\nYou can meet in person at the church or from home through this ZOOM Link.
URL:https://lhcc.info/event/thursday-morning-bible-study-3-2024-03-28/2024-05-23/
LOCATION:Living Hope Christian Church\, 730 South County Trail\, North Kingstown\, RI\, 02852\, United States
CATEGORIES:Bible Studies
ATTACH;FMTTYPE=image/jpeg:https://lhcc.info/wp-content/uploads/2022/12/Untitled-Facebook-Post.jpg
GEO:41.5556183;-71.5189401
X-APPLE-STRUCTURED-LOCATION;VALUE=URI;X-ADDRESS=Living Hope Christian Church 730 South County Trail North Kingstown RI 02852 United States;X-APPLE-RADIUS=500;X-TITLE=730 South County Trail:geo:-71.5189401,41.5556183
END:VEVENT
BEGIN:VEVENT
DTSTART;TZID=America/New_York:20240525T070000
DTEND;TZID=America/New_York:20240525T080000
DTSTAMP:20260425T061846
CREATED:20221216T221028Z
LAST-MODIFIED:20240326T180918Z
UID:10006617-1716620400-1716624000@lhcc.info
SUMMARY:Saturday Morning Bible Study
DESCRIPTION:Join us at 7am for our “Early Risers” Bible study led by Mike DeFrancesco.\nIf you are unable to meet in person\, you can join from home through this ZOOM Link.
URL:https://lhcc.info/event/saturday-morning-bible-study-3-2023-09-02-2024-04-27/2024-05-25/
LOCATION:Living Hope Christian Church\, 730 South County Trail\, North Kingstown\, RI\, 02852\, United States
CATEGORIES:Bible Studies
ATTACH;FMTTYPE=image/jpeg:https://lhcc.info/wp-content/uploads/2022/12/Untitled-Facebook-Post.jpg
GEO:41.5556183;-71.5189401
X-APPLE-STRUCTURED-LOCATION;VALUE=URI;X-ADDRESS=Living Hope Christian Church 730 South County Trail North Kingstown RI 02852 United States;X-APPLE-RADIUS=500;X-TITLE=730 South County Trail:geo:-71.5189401,41.5556183
END:VEVENT
BEGIN:VEVENT
DTSTART;TZID=America/New_York:20240526T080000
DTEND;TZID=America/New_York:20240526T084500
DTSTAMP:20260425T061846
CREATED:20160830T200212Z
LAST-MODIFIED:20170218T124644Z
UID:10001657-1716710400-1716713100@lhcc.info
SUMMARY:Adult Sunday School
DESCRIPTION:Looking for a weekend Bible study? Join us in Classroom 1 at 9 am every Sunday morning for a small group study led by a rotation of teachers. Each teacher is given several weeks to cover the topic of their choice. Teens are welcome at this study! (We’re sorry\, but there is no child care available.)
URL:https://lhcc.info/event/adult-sunday-school/2024-05-26/
LOCATION:Living Hope Christian Church\, 730 South County Trail\, North Kingstown\, RI\, 02852\, United States
CATEGORIES:Bible Studies
ATTACH;FMTTYPE=image/jpeg:https://lhcc.info/wp-content/uploads/2016/09/bible-study-north-kingstown-churches.jpg
GEO:41.5556183;-71.5189401
X-APPLE-STRUCTURED-LOCATION;VALUE=URI;X-ADDRESS=Living Hope Christian Church 730 South County Trail North Kingstown RI 02852 United States;X-APPLE-RADIUS=500;X-TITLE=730 South County Trail:geo:-71.5189401,41.5556183
END:VEVENT
BEGIN:VEVENT
DTSTART;TZID=America/New_York:20240529T183000
DTEND;TZID=America/New_York:20240529T193000
DTSTAMP:20260425T061846
CREATED:20160830T195401Z
LAST-MODIFIED:20180102T154200Z
UID:10002218-1717007400-1717011000@lhcc.info
SUMMARY:Wednesday Night Bible Study
DESCRIPTION:We’re studying God’s Word together at Living Hope every Wednesday night and Thursday morning! Join us at either one of these times for a great Bible study led by Pastor Peter Atkin in a small group discussion format. You’ll be encouraged\, challenged\, and transformed!
URL:https://lhcc.info/event/wednesday-night-bible-study/2024-05-29/
LOCATION:Living Hope Christian Church\, 730 South County Trail\, North Kingstown\, RI\, 02852\, United States
CATEGORIES:Bible Studies
ATTACH;FMTTYPE=image/jpeg:https://lhcc.info/wp-content/uploads/2015/01/wednesday-bible-study-north-kingstown-church.jpg
GEO:41.5556183;-71.5189401
X-APPLE-STRUCTURED-LOCATION;VALUE=URI;X-ADDRESS=Living Hope Christian Church 730 South County Trail North Kingstown RI 02852 United States;X-APPLE-RADIUS=500;X-TITLE=730 South County Trail:geo:-71.5189401,41.5556183
END:VEVENT
BEGIN:VEVENT
DTSTART;TZID=America/New_York:20240529T193000
DTEND;TZID=America/New_York:20240529T203000
DTSTAMP:20260425T061846
CREATED:20221216T220500Z
LAST-MODIFIED:20240326T180700Z
UID:10005614-1717011000-1717014600@lhcc.info
SUMMARY:Wednesday Night Bible Study
DESCRIPTION:Join us at 7:30pm for our Wednesday Night Bible study led by Pastor Peter.\nYou can join in person at the church or from home through this ZOOM Link.
URL:https://lhcc.info/event/wednesday-night-bible-study-5-2024-03-27/2024-05-29/
LOCATION:Living Hope Christian Church\, 730 South County Trail\, North Kingstown\, RI\, 02852\, United States
CATEGORIES:Bible Studies
ATTACH;FMTTYPE=image/jpeg:https://lhcc.info/wp-content/uploads/2022/12/Untitled-Facebook-Post.jpg
GEO:41.5556183;-71.5189401
X-APPLE-STRUCTURED-LOCATION;VALUE=URI;X-ADDRESS=Living Hope Christian Church 730 South County Trail North Kingstown RI 02852 United States;X-APPLE-RADIUS=500;X-TITLE=730 South County Trail:geo:-71.5189401,41.5556183
END:VEVENT
BEGIN:VEVENT
DTSTART;TZID=America/New_York:20240530T100000
DTEND;TZID=America/New_York:20240530T110000
DTSTAMP:20260425T061846
CREATED:20221216T220752Z
LAST-MODIFIED:20240326T180745Z
UID:10005669-1717063200-1717066800@lhcc.info
SUMMARY:Thursday Morning Bible Study
DESCRIPTION:Join us at 10am for our Bible study led by Pastor Peter.\nYou can meet in person at the church or from home through this ZOOM Link.
URL:https://lhcc.info/event/thursday-morning-bible-study-3-2024-03-28/2024-05-30/
LOCATION:Living Hope Christian Church\, 730 South County Trail\, North Kingstown\, RI\, 02852\, United States
CATEGORIES:Bible Studies
ATTACH;FMTTYPE=image/jpeg:https://lhcc.info/wp-content/uploads/2022/12/Untitled-Facebook-Post.jpg
GEO:41.5556183;-71.5189401
X-APPLE-STRUCTURED-LOCATION;VALUE=URI;X-ADDRESS=Living Hope Christian Church 730 South County Trail North Kingstown RI 02852 United States;X-APPLE-RADIUS=500;X-TITLE=730 South County Trail:geo:-71.5189401,41.5556183
END:VEVENT
END:VCALENDAR