BEGIN:VCALENDAR
VERSION:2.0
PRODID:-//Living Hope Christian Church - ECPv6.15.17.1//NONSGML v1.0//EN
CALSCALE:GREGORIAN
METHOD:PUBLISH
X-WR-CALNAME:Living Hope Christian Church
X-ORIGINAL-URL:https://lhcc.info
X-WR-CALDESC:Events for Living Hope Christian Church
REFRESH-INTERVAL;VALUE=DURATION:PT1H
X-Robots-Tag:noindex
X-PUBLISHED-TTL:PT1H
BEGIN:VTIMEZONE
TZID:America/New_York
BEGIN:DAYLIGHT
TZOFFSETFROM:-0500
TZOFFSETTO:-0400
TZNAME:EDT
DTSTART:20250309T070000
END:DAYLIGHT
BEGIN:STANDARD
TZOFFSETFROM:-0400
TZOFFSETTO:-0500
TZNAME:EST
DTSTART:20251102T060000
END:STANDARD
BEGIN:DAYLIGHT
TZOFFSETFROM:-0500
TZOFFSETTO:-0400
TZNAME:EDT
DTSTART:20260308T070000
END:DAYLIGHT
BEGIN:STANDARD
TZOFFSETFROM:-0400
TZOFFSETTO:-0500
TZNAME:EST
DTSTART:20261101T060000
END:STANDARD
BEGIN:DAYLIGHT
TZOFFSETFROM:-0500
TZOFFSETTO:-0400
TZNAME:EDT
DTSTART:20270314T070000
END:DAYLIGHT
BEGIN:STANDARD
TZOFFSETFROM:-0400
TZOFFSETTO:-0500
TZNAME:EST
DTSTART:20271107T060000
END:STANDARD
END:VTIMEZONE
BEGIN:VEVENT
DTSTART;TZID=America/New_York:20260303T180000
DTEND;TZID=America/New_York:20260303T193000
DTSTAMP:20260423T155341
CREATED:20250826T183927Z
LAST-MODIFIED:20250826T184008Z
UID:10011292-1772560800-1772566200@lhcc.info
SUMMARY:Trail Life Troop RI-2206 Meeting
DESCRIPTION:Trail Life is our Christ-centered scouting program for boys ages 5 to 17. For more information visit our Trail Life page or reach out to our Troopmaster \nOur regular Troop Meetings happen during the school year on Tuesdays from 6 -7:30pm.  \nOur troop also has the opportunity to take place in “Hit the Trail”events\, camping trips\, community service projects and more!
URL:https://lhcc.info/event/trail-life-troop-ri-2206-meeting/2026-03-03/
LOCATION:Living Hope Christian Church\, 730 South County Trail\, North Kingstown\, RI\, 02852\, United States
CATEGORIES:Children's Ministry
ATTACH;FMTTYPE=image/png:https://lhcc.info/wp-content/uploads/2024/07/trail-life-usa-logo.png
GEO:41.5556183;-71.5189401
X-APPLE-STRUCTURED-LOCATION;VALUE=URI;X-ADDRESS=Living Hope Christian Church 730 South County Trail North Kingstown RI 02852 United States;X-APPLE-RADIUS=500;X-TITLE=730 South County Trail:geo:-71.5189401,41.5556183
END:VEVENT
BEGIN:VEVENT
DTSTART;TZID=America/New_York:20260303T191500
DTEND;TZID=America/New_York:20260303T203000
DTSTAMP:20260423T155341
CREATED:20260113T165101Z
LAST-MODIFIED:20260113T165101Z
UID:10011485-1772565300-1772569800@lhcc.info
SUMMARY:Ladies Bible Study
DESCRIPTION:Ladies join us every Tuesday evening at 7:15pm at the church for our Ladies Bible study led by Amy Brock. \nIf you can’t be here in person you can join from home through this ZOOM Link. \nWe are currently in the book of Romans and you can access the study questions here if you choose to review them in advanc eof the study each week.
URL:https://lhcc.info/event/ladies-bible-study-4/2026-03-03/
LOCATION:Living Hope Christian Church\, 730 South County Trail\, North Kingstown\, RI\, 02852\, United States
CATEGORIES:Women's Ministry
ATTACH;FMTTYPE=image/png:https://lhcc.info/wp-content/uploads/2024/12/Ladies-Bible-Study.png
GEO:41.5556183;-71.5189401
X-APPLE-STRUCTURED-LOCATION;VALUE=URI;X-ADDRESS=Living Hope Christian Church 730 South County Trail North Kingstown RI 02852 United States;X-APPLE-RADIUS=500;X-TITLE=730 South County Trail:geo:-71.5189401,41.5556183
END:VEVENT
END:VCALENDAR