BEGIN:VCALENDAR
VERSION:2.0
PRODID:-//Living Hope Christian Church - ECPv6.15.17.1//NONSGML v1.0//EN
CALSCALE:GREGORIAN
METHOD:PUBLISH
X-ORIGINAL-URL:https://lhcc.info
X-WR-CALDESC:Events for Living Hope Christian Church
REFRESH-INTERVAL;VALUE=DURATION:PT1H
X-Robots-Tag:noindex
X-PUBLISHED-TTL:PT1H
BEGIN:VTIMEZONE
TZID:America/New_York
BEGIN:DAYLIGHT
TZOFFSETFROM:-0500
TZOFFSETTO:-0400
TZNAME:EDT
DTSTART:20240310T070000
END:DAYLIGHT
BEGIN:STANDARD
TZOFFSETFROM:-0400
TZOFFSETTO:-0500
TZNAME:EST
DTSTART:20241103T060000
END:STANDARD
BEGIN:DAYLIGHT
TZOFFSETFROM:-0500
TZOFFSETTO:-0400
TZNAME:EDT
DTSTART:20250309T070000
END:DAYLIGHT
BEGIN:STANDARD
TZOFFSETFROM:-0400
TZOFFSETTO:-0500
TZNAME:EST
DTSTART:20251102T060000
END:STANDARD
BEGIN:DAYLIGHT
TZOFFSETFROM:-0500
TZOFFSETTO:-0400
TZNAME:EDT
DTSTART:20260308T070000
END:DAYLIGHT
BEGIN:STANDARD
TZOFFSETFROM:-0400
TZOFFSETTO:-0500
TZNAME:EST
DTSTART:20261101T060000
END:STANDARD
END:VTIMEZONE
BEGIN:VEVENT
DTSTART;TZID=America/New_York:20251221T091500
DTEND;TZID=America/New_York:20251221T100000
DTSTAMP:20260424T013109
CREATED:20250612T192708Z
LAST-MODIFIED:20250612T192904Z
UID:10011213-1766308500-1766311200@lhcc.info
SUMMARY:Church Prayer Time
DESCRIPTION:Join us for a time of weekly\, corporate prayer on Sunday mornings at 9:15am before our Sunday church service. \nWe meet in person at the church only for this prayer gathering\, there is no Zoom option.
URL:https://lhcc.info/event/church-prayer-time-2-2/2025-12-21/
LOCATION:Living Hope Christian Church\, 730 South County Trail\, North Kingstown\, RI\, 02852\, United States
CATEGORIES:Prayer
ATTACH;FMTTYPE=image/png:https://lhcc.info/wp-content/uploads/2024/12/Prayer-Times.png
GEO:41.5556183;-71.5189401
X-APPLE-STRUCTURED-LOCATION;VALUE=URI;X-ADDRESS=Living Hope Christian Church 730 South County Trail North Kingstown RI 02852 United States;X-APPLE-RADIUS=500;X-TITLE=730 South County Trail:geo:-71.5189401,41.5556183
END:VEVENT
BEGIN:VEVENT
DTSTART;TZID=America/New_York:20251221T170000
DTEND;TZID=America/New_York:20251221T180000
DTSTAMP:20260424T013109
CREATED:20251125T211430Z
LAST-MODIFIED:20251202T142932Z
UID:10011409-1766336400-1766340000@lhcc.info
SUMMARY:Blue Christmas Service
DESCRIPTION:For some people Christmas can be a difficult time of year due to loss\, hurts\, and broken relationships.  \nOur Blue Christmas Service happens on December 21st at 5pm\, which is the shortest day and longest night of the year. Having the service on this particular day helps symbolize that even in the deepest darkness\, there is still Hope in God\, and that from this point forward\, there will be more light as the days begin to get longer.  \nThe service is a special recognition of the struggles people are facing and a chance to acknowledge them in a safe place while receiving the rest\, comfort\, and healing we know can only come from God. Join us and invite someone you think might benefit from a service like this during the holidays.
URL:https://lhcc.info/event/blue-christmas-service-4/
LOCATION:Living Hope Christian Church\, 730 South County Trail\, North Kingstown\, RI\, 02852\, United States
CATEGORIES:Church Events,Community Events
ATTACH;FMTTYPE=image/png:https://lhcc.info/wp-content/uploads/2025/11/Blue-Christmas-title.png
GEO:41.5556183;-71.5189401
X-APPLE-STRUCTURED-LOCATION;VALUE=URI;X-ADDRESS=Living Hope Christian Church 730 South County Trail North Kingstown RI 02852 United States;X-APPLE-RADIUS=500;X-TITLE=730 South County Trail:geo:-71.5189401,41.5556183
END:VEVENT
BEGIN:VEVENT
DTSTART;TZID=America/New_York:20251221T180000
DTEND;TZID=America/New_York:20251221T193000
DTSTAMP:20260424T013109
CREATED:20250923T203509Z
LAST-MODIFIED:20250923T203909Z
UID:10011373-1766340000-1766345400@lhcc.info
SUMMARY:Youth group Meeting
DESCRIPTION:Our LHCC Youth Group is for kids in 6th to 12th grade. \nWe meet the first and third Sunday of each month for some food\, fun\, and a discussion time around God’s word. \nJoin us as we grow in our friendships with each other and deeper in our understanding and relationship with God!
URL:https://lhcc.info/event/youth-group-meeting-6/2025-12-21/
LOCATION:Living Hope Christian Church\, 730 South County Trail\, North Kingstown\, RI\, 02852\, United States
CATEGORIES:Teen Ministry
ATTACH;FMTTYPE=image/jpeg:https://lhcc.info/wp-content/uploads/2022/12/LHCC-Youth-Group.jpg
GEO:41.5556183;-71.5189401
X-APPLE-STRUCTURED-LOCATION;VALUE=URI;X-ADDRESS=Living Hope Christian Church 730 South County Trail North Kingstown RI 02852 United States;X-APPLE-RADIUS=500;X-TITLE=730 South County Trail:geo:-71.5189401,41.5556183
END:VEVENT
END:VCALENDAR