BEGIN:VCALENDAR
VERSION:2.0
PRODID:-//Living Hope Christian Church - ECPv6.15.17.1//NONSGML v1.0//EN
CALSCALE:GREGORIAN
METHOD:PUBLISH
X-ORIGINAL-URL:https://lhcc.info
X-WR-CALDESC:Events for Living Hope Christian Church
REFRESH-INTERVAL;VALUE=DURATION:PT1H
X-Robots-Tag:noindex
X-PUBLISHED-TTL:PT1H
BEGIN:VTIMEZONE
TZID:America/New_York
BEGIN:DAYLIGHT
TZOFFSETFROM:-0500
TZOFFSETTO:-0400
TZNAME:EDT
DTSTART:20240310T070000
END:DAYLIGHT
BEGIN:STANDARD
TZOFFSETFROM:-0400
TZOFFSETTO:-0500
TZNAME:EST
DTSTART:20241103T060000
END:STANDARD
BEGIN:DAYLIGHT
TZOFFSETFROM:-0500
TZOFFSETTO:-0400
TZNAME:EDT
DTSTART:20250309T070000
END:DAYLIGHT
BEGIN:STANDARD
TZOFFSETFROM:-0400
TZOFFSETTO:-0500
TZNAME:EST
DTSTART:20251102T060000
END:STANDARD
BEGIN:DAYLIGHT
TZOFFSETFROM:-0500
TZOFFSETTO:-0400
TZNAME:EDT
DTSTART:20260308T070000
END:DAYLIGHT
BEGIN:STANDARD
TZOFFSETFROM:-0400
TZOFFSETTO:-0500
TZNAME:EST
DTSTART:20261101T060000
END:STANDARD
END:VTIMEZONE
BEGIN:VEVENT
DTSTART;TZID=America/New_York:20250810T091500
DTEND;TZID=America/New_York:20250810T100000
DTSTAMP:20260424T112648
CREATED:20250612T192708Z
LAST-MODIFIED:20250612T192904Z
UID:10011194-1754817300-1754820000@lhcc.info
SUMMARY:Church Prayer Time
DESCRIPTION:Join us for a time of weekly\, corporate prayer on Sunday mornings at 9:15am before our Sunday church service. \nWe meet in person at the church only for this prayer gathering\, there is no Zoom option.
URL:https://lhcc.info/event/church-prayer-time-2-2/2025-08-10/
LOCATION:Living Hope Christian Church\, 730 South County Trail\, North Kingstown\, RI\, 02852\, United States
CATEGORIES:Prayer
ATTACH;FMTTYPE=image/png:https://lhcc.info/wp-content/uploads/2024/12/Prayer-Times.png
GEO:41.5556183;-71.5189401
X-APPLE-STRUCTURED-LOCATION;VALUE=URI;X-ADDRESS=Living Hope Christian Church 730 South County Trail North Kingstown RI 02852 United States;X-APPLE-RADIUS=500;X-TITLE=730 South County Trail:geo:-71.5189401,41.5556183
END:VEVENT
BEGIN:VEVENT
DTSTART;TZID=America/New_York:20250810T120000
DTEND;TZID=America/New_York:20250810T140000
DTSTAMP:20260424T112648
CREATED:20250612T191941Z
LAST-MODIFIED:20250826T190024Z
UID:10011330-1754827200-1754834400@lhcc.info
SUMMARY:Clothing Closet Public Hours
DESCRIPTION:Shop for free clothing for men\, women\, and children during our public hours:\nThursdays 4-7pm\nSundays 12-2pm \nOther services available on a first come\, first serve basis during public hours:\nLaundry Machine\nShower\nFood Assistance \nIf you need to make an appointment outside of our public hours for any of these services\, please call the church at (401)667-0775
URL:https://lhcc.info/event/clothing-closet-public-hours-2/2025-08-10/
LOCATION:RI
CATEGORIES:Community Events
ATTACH;FMTTYPE=image/png:https://lhcc.info/wp-content/uploads/2025/06/Clothing-Closet-Facebook-Post.png
END:VEVENT
BEGIN:VEVENT
DTSTART;TZID=America/New_York:20250810T180000
DTEND;TZID=America/New_York:20250810T200000
DTSTAMP:20260424T112648
CREATED:20250619T204539Z
LAST-MODIFIED:20250619T204539Z
UID:10011254-1754848800-1754856000@lhcc.info
SUMMARY:Mission Night - "A Look At The 10/40 Window"
DESCRIPTION:What is the 10/40 Window?\nOften called “The Resistant Belt”\, the 10/40 Window includes the majority of the world’s Muslims\, Hindus\, and Buddhists in the area of North Africa\, the Middle East and Asia approximately between 10 degrees north and 40 degrees north latitude. \nJoin us for a fun and informational evening\, hosted by our Mission Team\, to take a look at the Missionary work both here and abroad that seeks to bring the Gospel of Christ to this challenging part of the world! \nThe night will feature food\, music\, and speakers highlighting several of the specific areas in the 10/40 Window. This night is geared toward teens and young adults but ALL are welcome. Sign Up and Join Us! \n 
URL:https://lhcc.info/event/mission-night-a-look-at-the-10-40-window/
LOCATION:Living Hope Christian Church\, 730 South County Trail\, North Kingstown\, RI\, 02852\, United States
CATEGORIES:Missions Ministry
ATTACH;FMTTYPE=image/png:https://lhcc.info/wp-content/uploads/2025/06/1040-Window.png
GEO:41.5556183;-71.5189401
X-APPLE-STRUCTURED-LOCATION;VALUE=URI;X-ADDRESS=Living Hope Christian Church 730 South County Trail North Kingstown RI 02852 United States;X-APPLE-RADIUS=500;X-TITLE=730 South County Trail:geo:-71.5189401,41.5556183
END:VEVENT
END:VCALENDAR