BEGIN:VCALENDAR
VERSION:2.0
PRODID:-//Living Hope Christian Church - ECPv6.15.17.1//NONSGML v1.0//EN
CALSCALE:GREGORIAN
METHOD:PUBLISH
X-ORIGINAL-URL:https://lhcc.info
X-WR-CALDESC:Events for Living Hope Christian Church
REFRESH-INTERVAL;VALUE=DURATION:PT1H
X-Robots-Tag:noindex
X-PUBLISHED-TTL:PT1H
BEGIN:VTIMEZONE
TZID:America/New_York
BEGIN:DAYLIGHT
TZOFFSETFROM:-0500
TZOFFSETTO:-0400
TZNAME:EDT
DTSTART:20240310T070000
END:DAYLIGHT
BEGIN:STANDARD
TZOFFSETFROM:-0400
TZOFFSETTO:-0500
TZNAME:EST
DTSTART:20241103T060000
END:STANDARD
BEGIN:DAYLIGHT
TZOFFSETFROM:-0500
TZOFFSETTO:-0400
TZNAME:EDT
DTSTART:20250309T070000
END:DAYLIGHT
BEGIN:STANDARD
TZOFFSETFROM:-0400
TZOFFSETTO:-0500
TZNAME:EST
DTSTART:20251102T060000
END:STANDARD
BEGIN:DAYLIGHT
TZOFFSETFROM:-0500
TZOFFSETTO:-0400
TZNAME:EDT
DTSTART:20260308T070000
END:DAYLIGHT
BEGIN:STANDARD
TZOFFSETFROM:-0400
TZOFFSETTO:-0500
TZNAME:EST
DTSTART:20261101T060000
END:STANDARD
END:VTIMEZONE
BEGIN:VEVENT
DTSTART;TZID=America/New_York:20250507T160000
DTEND;TZID=America/New_York:20250507T173000
DTSTAMP:20260424T161041
CREATED:20240815T213308Z
LAST-MODIFIED:20240815T214420Z
UID:10006885-1746633600-1746639000@lhcc.info
SUMMARY:AHG Unit Meeting
DESCRIPTION:Building Women of Integrity\n\nAmerican Heritage Girls is a Christ-centered character and leadership development program for girls 5 to 18 years of age. AHG is dedicated to the mission of building women of integrity through service to God\, family\, community\, and country. \nLooking for Faith\, Service\, and Fun (including camping and outdoor adventure) for your daughter? \nThen join Troop RI3130! For more information contact our troop coordinator today!
URL:https://lhcc.info/event/ahg-unit-meeting/2025-05-07/
LOCATION:Living Hope Christian Church\, 730 South County Trail\, North Kingstown\, RI\, 02852\, United States
CATEGORIES:Children's Ministry
ATTACH;FMTTYPE=image/jpeg:https://lhcc.info/wp-content/uploads/2024/07/AHG-2-Color-Horizontal-Logo-on-white-01.jpg
GEO:41.5556183;-71.5189401
X-APPLE-STRUCTURED-LOCATION;VALUE=URI;X-ADDRESS=Living Hope Christian Church 730 South County Trail North Kingstown RI 02852 United States;X-APPLE-RADIUS=500;X-TITLE=730 South County Trail:geo:-71.5189401,41.5556183
END:VEVENT
BEGIN:VEVENT
DTSTART;TZID=America/New_York:20250507T183000
DTEND;TZID=America/New_York:20250507T193000
DTSTAMP:20260424T161041
CREATED:20241227T145309Z
LAST-MODIFIED:20241227T145309Z
UID:10006989-1746642600-1746646200@lhcc.info
SUMMARY:Church Prayer Time
DESCRIPTION:Join us for a time of weekly\, corporate prayer on Wednesday evenings at 6:30pm before our Wednesday night Bible study. \nWe meet at the church or you can join from home through this ZOOM LINK.
URL:https://lhcc.info/event/church-prayer-time/2025-05-07/
LOCATION:Living Hope Christian Church\, 730 South County Trail\, North Kingstown\, RI\, 02852\, United States
CATEGORIES:Prayer
ATTACH;FMTTYPE=image/png:https://lhcc.info/wp-content/uploads/2024/12/Prayer-Times.png
GEO:41.5556183;-71.5189401
X-APPLE-STRUCTURED-LOCATION;VALUE=URI;X-ADDRESS=Living Hope Christian Church 730 South County Trail North Kingstown RI 02852 United States;X-APPLE-RADIUS=500;X-TITLE=730 South County Trail:geo:-71.5189401,41.5556183
END:VEVENT
BEGIN:VEVENT
DTSTART;TZID=America/New_York:20250507T193000
DTEND;TZID=America/New_York:20250507T203000
DTSTAMP:20260424T161041
CREATED:20241227T144051Z
LAST-MODIFIED:20241227T144136Z
UID:10006912-1746646200-1746649800@lhcc.info
SUMMARY:Wednesday Night Bible Study
DESCRIPTION:Join us for this weekly Bible study led by Pastor Peter on Wednesdays at 7:30pm\nYou can meet with us in person at the church or from home through this ZOOM LINK.
URL:https://lhcc.info/event/wednesday-night-bible-study-6/2025-05-07/
LOCATION:Living Hope Christian Church\, 730 South County Trail\, North Kingstown\, RI\, 02852\, United States
CATEGORIES:Bible Studies
ATTACH;FMTTYPE=image/png:https://lhcc.info/wp-content/uploads/2024/12/Wed-Bible-Study.png
GEO:41.5556183;-71.5189401
X-APPLE-STRUCTURED-LOCATION;VALUE=URI;X-ADDRESS=Living Hope Christian Church 730 South County Trail North Kingstown RI 02852 United States;X-APPLE-RADIUS=500;X-TITLE=730 South County Trail:geo:-71.5189401,41.5556183
END:VEVENT
END:VCALENDAR