BEGIN:VCALENDAR
VERSION:2.0
PRODID:-//Living Hope Christian Church - ECPv6.15.17.1//NONSGML v1.0//EN
CALSCALE:GREGORIAN
METHOD:PUBLISH
X-ORIGINAL-URL:https://lhcc.info
X-WR-CALDESC:Events for Living Hope Christian Church
REFRESH-INTERVAL;VALUE=DURATION:PT1H
X-Robots-Tag:noindex
X-PUBLISHED-TTL:PT1H
BEGIN:VTIMEZONE
TZID:America/New_York
BEGIN:DAYLIGHT
TZOFFSETFROM:-0500
TZOFFSETTO:-0400
TZNAME:EDT
DTSTART:20240310T070000
END:DAYLIGHT
BEGIN:STANDARD
TZOFFSETFROM:-0400
TZOFFSETTO:-0500
TZNAME:EST
DTSTART:20241103T060000
END:STANDARD
BEGIN:DAYLIGHT
TZOFFSETFROM:-0500
TZOFFSETTO:-0400
TZNAME:EDT
DTSTART:20250309T070000
END:DAYLIGHT
BEGIN:STANDARD
TZOFFSETFROM:-0400
TZOFFSETTO:-0500
TZNAME:EST
DTSTART:20251102T060000
END:STANDARD
BEGIN:DAYLIGHT
TZOFFSETFROM:-0500
TZOFFSETTO:-0400
TZNAME:EDT
DTSTART:20260308T070000
END:DAYLIGHT
BEGIN:STANDARD
TZOFFSETFROM:-0400
TZOFFSETTO:-0500
TZNAME:EST
DTSTART:20261101T060000
END:STANDARD
END:VTIMEZONE
BEGIN:VEVENT
DTSTART;TZID=America/New_York:20250312T120000
DTEND;TZID=America/New_York:20250312T130000
DTSTAMP:20260424T204420
CREATED:20250220T190320Z
LAST-MODIFIED:20250220T190320Z
UID:10007079-1741780800-1741784400@lhcc.info
SUMMARY:Lenten Soup Luncheon
DESCRIPTION:We are excited to be hosting one of the six Lenten Soup Luncheon organized by the North Kingstown Clergy Association on Wednesday\, March 12th from 12-1pm at the church.\nThese lunches are free and open to the public. Donations to benefit the North Kingstown Food Pantry will gladly be accepted that day.\n**If you would be interested in helping by making a soup or bringing bread that day please contact Kelly.\n  \nThis is the complete list of Lenten Soup Luncheons and the locations: \n\nWednesday\, March 5th from 1:30-2:30pm – St. Paul’s Epicopal Church (76 Main Street\, Wickford)\nWednesday\, March 12th from 12-1pm – LHCC (730 So County Trail\, North Kingstown)\nWednesday\, March 19th from 12-1pm – NK United Methodist Church (450 Boston Neck Road\, North Kingstown)\nWednesday\, March 26th from 12-1pm – St Bernard RC Church (275 Tower Hill Road\, North Kiingstown)\nWednesday\, April 2nd from 12-1pm – First Baptist Churc of Wickford (44 Main Street\, Wickford)\nWednesday\, April 9th from 12-1pm – Wickford Seventh Day Adventist (8050 Post road\, North Kingstown)
URL:https://lhcc.info/event/lenten-soup-luncheon/
LOCATION:Living Hope Christian Church\, 730 South County Trail\, North Kingstown\, RI\, 02852\, United States
CATEGORIES:Community Events
ATTACH;FMTTYPE=image/png:https://lhcc.info/wp-content/uploads/2025/02/2025-NK-Lenten-Soup-Luncheon-Flyer-2.png
GEO:41.5556183;-71.5189401
X-APPLE-STRUCTURED-LOCATION;VALUE=URI;X-ADDRESS=Living Hope Christian Church 730 South County Trail North Kingstown RI 02852 United States;X-APPLE-RADIUS=500;X-TITLE=730 South County Trail:geo:-71.5189401,41.5556183
END:VEVENT
BEGIN:VEVENT
DTSTART;TZID=America/New_York:20250312T160000
DTEND;TZID=America/New_York:20250312T173000
DTSTAMP:20260424T204420
CREATED:20240815T213308Z
LAST-MODIFIED:20240815T214420Z
UID:10006881-1741795200-1741800600@lhcc.info
SUMMARY:AHG Unit Meeting
DESCRIPTION:Building Women of Integrity\n\nAmerican Heritage Girls is a Christ-centered character and leadership development program for girls 5 to 18 years of age. AHG is dedicated to the mission of building women of integrity through service to God\, family\, community\, and country. \nLooking for Faith\, Service\, and Fun (including camping and outdoor adventure) for your daughter? \nThen join Troop RI3130! For more information contact our troop coordinator today!
URL:https://lhcc.info/event/ahg-unit-meeting/2025-03-12/
LOCATION:Living Hope Christian Church\, 730 South County Trail\, North Kingstown\, RI\, 02852\, United States
CATEGORIES:Children's Ministry
ATTACH;FMTTYPE=image/jpeg:https://lhcc.info/wp-content/uploads/2024/07/AHG-2-Color-Horizontal-Logo-on-white-01.jpg
GEO:41.5556183;-71.5189401
X-APPLE-STRUCTURED-LOCATION;VALUE=URI;X-ADDRESS=Living Hope Christian Church 730 South County Trail North Kingstown RI 02852 United States;X-APPLE-RADIUS=500;X-TITLE=730 South County Trail:geo:-71.5189401,41.5556183
END:VEVENT
BEGIN:VEVENT
DTSTART;TZID=America/New_York:20250312T163000
DTEND;TZID=America/New_York:20250312T193000
DTSTAMP:20260424T204420
CREATED:20160830T195559Z
LAST-MODIFIED:20170218T124847Z
UID:10003923-1741797000-1741807800@lhcc.info
SUMMARY:Fountain of Youth Teens
DESCRIPTION:Living Hope’s teen ministry is open to all teens ages 13-18\, plus select 12-yr-olds\, and meets every Wednesday night at Living Hope Christian Church. For more information about our teen ministry\, see the FoY Teens web page at http://lhcc.info/ministries/teens/. Questions? Contact Michelle Quillin! \nKeep up with FoY Teens on Facebook: Fountain of Youth – AKA FoY Teens\nFollow FoY Teens on Instagram: @FoYTeens
URL:https://lhcc.info/event/fountain-youth-teens/2025-03-12/
LOCATION:Living Hope Christian Church\, 730 South County Trail\, North Kingstown\, RI\, 02852\, United States
CATEGORIES:Teen Ministry
ATTACH;FMTTYPE=image/jpeg:https://lhcc.info/wp-content/uploads/2016/09/living-hope-teen-ministry-rhode-island.jpg
GEO:41.5556183;-71.5189401
X-APPLE-STRUCTURED-LOCATION;VALUE=URI;X-ADDRESS=Living Hope Christian Church 730 South County Trail North Kingstown RI 02852 United States;X-APPLE-RADIUS=500;X-TITLE=730 South County Trail:geo:-71.5189401,41.5556183
END:VEVENT
BEGIN:VEVENT
DTSTART;TZID=America/New_York:20250312T173000
DTEND;TZID=America/New_York:20250312T183000
DTSTAMP:20260424T204420
CREATED:20160830T194848Z
LAST-MODIFIED:20170218T124829Z
UID:10002846-1741800600-1741804200@lhcc.info
SUMMARY:Wednesday Night Prayer
DESCRIPTION:The New Testament is filled with testimonies of God’s power revealed when men and women pray together. Join us every Wednesday from 6:30-7:30 pm to pray!
URL:https://lhcc.info/event/wednesday-night-prayer/2025-03-12/
LOCATION:Living Hope Christian Church\, 730 South County Trail\, North Kingstown\, RI\, 02852\, United States
CATEGORIES:Prayer
ATTACH;FMTTYPE=image/jpeg:https://lhcc.info/wp-content/uploads/2015/01/wednesday-prayer-meeting-north-kingstown-ri.jpg
GEO:41.5556183;-71.5189401
X-APPLE-STRUCTURED-LOCATION;VALUE=URI;X-ADDRESS=Living Hope Christian Church 730 South County Trail North Kingstown RI 02852 United States;X-APPLE-RADIUS=500;X-TITLE=730 South County Trail:geo:-71.5189401,41.5556183
END:VEVENT
BEGIN:VEVENT
DTSTART;TZID=America/New_York:20250312T180000
DTEND;TZID=America/New_York:20250312T203000
DTSTAMP:20260424T204420
CREATED:20170905T210214Z
LAST-MODIFIED:20180801T224906Z
UID:10003355-1741802400-1741811400@lhcc.info
SUMMARY:FoY Teens
DESCRIPTION:Living Hope’s teen ministry is open to all teens ages 13-18\, plus select 12-yr-olds\, and meets every Wednesday night at Living Hope Christian Church. For more information about our teen ministry\, see the FoY Teens web page at http://lhcc.info/ministries/teens/. Questions? Contact Steve Brock\, Amy Brock\, or Melanie Barlow! \nKeep up with FoY Teens on Facebook: Fountain of Youth – AKA FoY Teens\nFollow FoY Teens on Instagram: @FoYTeens
URL:https://lhcc.info/event/foy-teens-2-2017-10-18/2025-03-12/
LOCATION:Living Hope Christian Church\, 730 South County Trail\, North Kingstown\, RI\, 02852\, United States
CATEGORIES:Teen Ministry
GEO:41.5556183;-71.5189401
X-APPLE-STRUCTURED-LOCATION;VALUE=URI;X-ADDRESS=Living Hope Christian Church 730 South County Trail North Kingstown RI 02852 United States;X-APPLE-RADIUS=500;X-TITLE=730 South County Trail:geo:-71.5189401,41.5556183
END:VEVENT
BEGIN:VEVENT
DTSTART;TZID=America/New_York:20250312T183000
DTEND;TZID=America/New_York:20250312T193000
DTSTAMP:20260424T204420
CREATED:20160830T195401Z
LAST-MODIFIED:20180102T154200Z
UID:10002259-1741804200-1741807800@lhcc.info
SUMMARY:Wednesday Night Bible Study
DESCRIPTION:We’re studying God’s Word together at Living Hope every Wednesday night and Thursday morning! Join us at either one of these times for a great Bible study led by Pastor Peter Atkin in a small group discussion format. You’ll be encouraged\, challenged\, and transformed!
URL:https://lhcc.info/event/wednesday-night-bible-study/2025-03-12/
LOCATION:Living Hope Christian Church\, 730 South County Trail\, North Kingstown\, RI\, 02852\, United States
CATEGORIES:Bible Studies
ATTACH;FMTTYPE=image/jpeg:https://lhcc.info/wp-content/uploads/2015/01/wednesday-bible-study-north-kingstown-church.jpg
GEO:41.5556183;-71.5189401
X-APPLE-STRUCTURED-LOCATION;VALUE=URI;X-ADDRESS=Living Hope Christian Church 730 South County Trail North Kingstown RI 02852 United States;X-APPLE-RADIUS=500;X-TITLE=730 South County Trail:geo:-71.5189401,41.5556183
END:VEVENT
BEGIN:VEVENT
DTSTART;TZID=America/New_York:20250312T183000
DTEND;TZID=America/New_York:20250312T193000
DTSTAMP:20260424T204420
CREATED:20241227T145309Z
LAST-MODIFIED:20241227T145309Z
UID:10006981-1741804200-1741807800@lhcc.info
SUMMARY:Church Prayer Time
DESCRIPTION:Join us for a time of weekly\, corporate prayer on Wednesday evenings at 6:30pm before our Wednesday night Bible study. \nWe meet at the church or you can join from home through this ZOOM LINK.
URL:https://lhcc.info/event/church-prayer-time/2025-03-12/
LOCATION:Living Hope Christian Church\, 730 South County Trail\, North Kingstown\, RI\, 02852\, United States
CATEGORIES:Prayer
ATTACH;FMTTYPE=image/png:https://lhcc.info/wp-content/uploads/2024/12/Prayer-Times.png
GEO:41.5556183;-71.5189401
X-APPLE-STRUCTURED-LOCATION;VALUE=URI;X-ADDRESS=Living Hope Christian Church 730 South County Trail North Kingstown RI 02852 United States;X-APPLE-RADIUS=500;X-TITLE=730 South County Trail:geo:-71.5189401,41.5556183
END:VEVENT
BEGIN:VEVENT
DTSTART;TZID=America/New_York:20250312T193000
DTEND;TZID=America/New_York:20250312T203000
DTSTAMP:20260424T204420
CREATED:20241227T144051Z
LAST-MODIFIED:20241227T144136Z
UID:10006904-1741807800-1741811400@lhcc.info
SUMMARY:Wednesday Night Bible Study
DESCRIPTION:Join us for this weekly Bible study led by Pastor Peter on Wednesdays at 7:30pm\nYou can meet with us in person at the church or from home through this ZOOM LINK.
URL:https://lhcc.info/event/wednesday-night-bible-study-6/2025-03-12/
LOCATION:Living Hope Christian Church\, 730 South County Trail\, North Kingstown\, RI\, 02852\, United States
CATEGORIES:Bible Studies
ATTACH;FMTTYPE=image/png:https://lhcc.info/wp-content/uploads/2024/12/Wed-Bible-Study.png
GEO:41.5556183;-71.5189401
X-APPLE-STRUCTURED-LOCATION;VALUE=URI;X-ADDRESS=Living Hope Christian Church 730 South County Trail North Kingstown RI 02852 United States;X-APPLE-RADIUS=500;X-TITLE=730 South County Trail:geo:-71.5189401,41.5556183
END:VEVENT
END:VCALENDAR