BEGIN:VCALENDAR
VERSION:2.0
PRODID:-//Living Hope Christian Church - ECPv6.15.17.1//NONSGML v1.0//EN
CALSCALE:GREGORIAN
METHOD:PUBLISH
X-WR-CALNAME:Living Hope Christian Church
X-ORIGINAL-URL:https://lhcc.info
X-WR-CALDESC:Events for Living Hope Christian Church
REFRESH-INTERVAL;VALUE=DURATION:PT1H
X-Robots-Tag:noindex
X-PUBLISHED-TTL:PT1H
BEGIN:VTIMEZONE
TZID:America/New_York
BEGIN:DAYLIGHT
TZOFFSETFROM:-0500
TZOFFSETTO:-0400
TZNAME:EDT
DTSTART:20240310T070000
END:DAYLIGHT
BEGIN:STANDARD
TZOFFSETFROM:-0400
TZOFFSETTO:-0500
TZNAME:EST
DTSTART:20241103T060000
END:STANDARD
BEGIN:DAYLIGHT
TZOFFSETFROM:-0500
TZOFFSETTO:-0400
TZNAME:EDT
DTSTART:20250309T070000
END:DAYLIGHT
BEGIN:STANDARD
TZOFFSETFROM:-0400
TZOFFSETTO:-0500
TZNAME:EST
DTSTART:20251102T060000
END:STANDARD
BEGIN:DAYLIGHT
TZOFFSETFROM:-0500
TZOFFSETTO:-0400
TZNAME:EDT
DTSTART:20260308T070000
END:DAYLIGHT
BEGIN:STANDARD
TZOFFSETFROM:-0400
TZOFFSETTO:-0500
TZNAME:EST
DTSTART:20261101T060000
END:STANDARD
END:VTIMEZONE
BEGIN:VEVENT
DTSTART;TZID=America/New_York:20250302T080000
DTEND;TZID=America/New_York:20250302T084500
DTSTAMP:20260424T221605
CREATED:20160830T200212Z
LAST-MODIFIED:20170218T124644Z
UID:10001697-1740902400-1740905100@lhcc.info
SUMMARY:Adult Sunday School
DESCRIPTION:Looking for a weekend Bible study? Join us in Classroom 1 at 9 am every Sunday morning for a small group study led by a rotation of teachers. Each teacher is given several weeks to cover the topic of their choice. Teens are welcome at this study! (We’re sorry\, but there is no child care available.)
URL:https://lhcc.info/event/adult-sunday-school/2025-03-02/
LOCATION:Living Hope Christian Church\, 730 South County Trail\, North Kingstown\, RI\, 02852\, United States
CATEGORIES:Bible Studies
ATTACH;FMTTYPE=image/jpeg:https://lhcc.info/wp-content/uploads/2016/09/bible-study-north-kingstown-churches.jpg
GEO:41.5556183;-71.5189401
X-APPLE-STRUCTURED-LOCATION;VALUE=URI;X-ADDRESS=Living Hope Christian Church 730 South County Trail North Kingstown RI 02852 United States;X-APPLE-RADIUS=500;X-TITLE=730 South County Trail:geo:-71.5189401,41.5556183
END:VEVENT
BEGIN:VEVENT
DTSTART;TZID=America/New_York:20250302T091500
DTEND;TZID=America/New_York:20250302T100000
DTSTAMP:20260424T221605
CREATED:20241227T145558Z
LAST-MODIFIED:20241227T145558Z
UID:10007006-1740906900-1740909600@lhcc.info
SUMMARY:Church Prayer Time
DESCRIPTION:Join us for a time of weekly\, corporate prayer on Sunday mornings at 9:15am before our Sunday church service. \nWe meet in person at the church only for this prayer gathering\, there is no Zoom option.
URL:https://lhcc.info/event/church-prayer-time-2/2025-03-02/
LOCATION:Living Hope Christian Church\, 730 South County Trail\, North Kingstown\, RI\, 02852\, United States
CATEGORIES:Prayer
ATTACH;FMTTYPE=image/png:https://lhcc.info/wp-content/uploads/2024/12/Prayer-Times.png
GEO:41.5556183;-71.5189401
X-APPLE-STRUCTURED-LOCATION;VALUE=URI;X-ADDRESS=Living Hope Christian Church 730 South County Trail North Kingstown RI 02852 United States;X-APPLE-RADIUS=500;X-TITLE=730 South County Trail:geo:-71.5189401,41.5556183
END:VEVENT
BEGIN:VEVENT
DTSTART;TZID=America/New_York:20250302T100000
DTEND;TZID=America/New_York:20250302T110000
DTSTAMP:20260424T221605
CREATED:20250206T203141Z
LAST-MODIFIED:20250211T140400Z
UID:10007078-1740909600-1740913200@lhcc.info
SUMMARY:Baby Dedication
DESCRIPTION:This is a special time we take during our Sunday morning service to allow parents the opportunity to publicly declare that they want to raise their child in the fear and admonition of the Lord. It is a time for the church to come alongside those parents and support and encourage them in that choice. \nIf you would like to have your child dedicated that day Sign Up Here and join this joyous time!
URL:https://lhcc.info/event/baby-dedication/
LOCATION:Living Hope Christian Church\, 730 South County Trail\, North Kingstown\, RI\, 02852\, United States
CATEGORIES:Church Events
ATTACH;FMTTYPE=image/png:https://lhcc.info/wp-content/uploads/2025/02/Baby-Dedication-1.png
GEO:41.5556183;-71.5189401
X-APPLE-STRUCTURED-LOCATION;VALUE=URI;X-ADDRESS=Living Hope Christian Church 730 South County Trail North Kingstown RI 02852 United States;X-APPLE-RADIUS=500;X-TITLE=730 South County Trail:geo:-71.5189401,41.5556183
END:VEVENT
BEGIN:VEVENT
DTSTART;TZID=America/New_York:20250302T180000
DTEND;TZID=America/New_York:20250302T193000
DTSTAMP:20260424T221605
CREATED:20250221T161316Z
LAST-MODIFIED:20250221T161316Z
UID:10005971-1740938400-1740943800@lhcc.info
SUMMARY:Youth Group Meeting
DESCRIPTION:Middle School (6th-8th grade) and High School (9th-12th grade) \nJoin us on the first and third Sunday of each month from 6-7:30pm at the church for a great fellowship time together. \nFood\, games\, fun\, and a biblical discussion time to help us build our relationships with each other and with Christ. \nDon’t Miss It!
URL:https://lhcc.info/event/youth-group-meeting-4/2025-03-02/
LOCATION:Living Hope Christian Church\, 730 South County Trail\, North Kingstown\, RI\, 02852\, United States
CATEGORIES:Teen Ministry
ATTACH;FMTTYPE=image/jpeg:https://lhcc.info/wp-content/uploads/2022/12/LHCC-Youth-Group.jpg
GEO:41.5556183;-71.5189401
X-APPLE-STRUCTURED-LOCATION;VALUE=URI;X-ADDRESS=Living Hope Christian Church 730 South County Trail North Kingstown RI 02852 United States;X-APPLE-RADIUS=500;X-TITLE=730 South County Trail:geo:-71.5189401,41.5556183
END:VEVENT
END:VCALENDAR