BEGIN:VCALENDAR
VERSION:2.0
PRODID:-//Living Hope Christian Church - ECPv6.15.17.1//NONSGML v1.0//EN
CALSCALE:GREGORIAN
METHOD:PUBLISH
X-WR-CALNAME:Living Hope Christian Church
X-ORIGINAL-URL:https://lhcc.info
X-WR-CALDESC:Events for Living Hope Christian Church
REFRESH-INTERVAL;VALUE=DURATION:PT1H
X-Robots-Tag:noindex
X-PUBLISHED-TTL:PT1H
BEGIN:VTIMEZONE
TZID:America/New_York
BEGIN:DAYLIGHT
TZOFFSETFROM:-0500
TZOFFSETTO:-0400
TZNAME:EDT
DTSTART:20240310T070000
END:DAYLIGHT
BEGIN:STANDARD
TZOFFSETFROM:-0400
TZOFFSETTO:-0500
TZNAME:EST
DTSTART:20241103T060000
END:STANDARD
BEGIN:DAYLIGHT
TZOFFSETFROM:-0500
TZOFFSETTO:-0400
TZNAME:EDT
DTSTART:20250309T070000
END:DAYLIGHT
BEGIN:STANDARD
TZOFFSETFROM:-0400
TZOFFSETTO:-0500
TZNAME:EST
DTSTART:20251102T060000
END:STANDARD
BEGIN:DAYLIGHT
TZOFFSETFROM:-0500
TZOFFSETTO:-0400
TZNAME:EDT
DTSTART:20260308T070000
END:DAYLIGHT
BEGIN:STANDARD
TZOFFSETFROM:-0400
TZOFFSETTO:-0500
TZNAME:EST
DTSTART:20261101T060000
END:STANDARD
END:VTIMEZONE
BEGIN:VEVENT
DTSTART;TZID=America/New_York:20250114T180000
DTEND;TZID=America/New_York:20250114T193000
DTSTAMP:20260424T235419
CREATED:20240905T212216Z
LAST-MODIFIED:20240905T221118Z
UID:10005900-1736877600-1736883000@lhcc.info
SUMMARY:Trail Life Troop Meeting
DESCRIPTION:Walk Worthy!\nTrail Life USA is a Christ-centered\, boy-focused mentoring program that engages boys age 5 to 17 in service & outdoor adventure to develop godly & courageous leaders. \nOur Trail Life program meets September through June on Tuesday evenings from 6 – 7:30pm as well as additional “Hit the Trail” events. \nTo get more information or to become involved in this program\, you can send us an inquiry or visit our Troop 2206 Facebook Page
URL:https://lhcc.info/event/trail-life-troop-meeting/2025-01-14/
LOCATION:Living Hope Christian Church\, 730 South County Trail\, North Kingstown\, RI\, 02852\, United States
CATEGORIES:Children's Ministry
ATTACH;FMTTYPE=image/png:https://lhcc.info/wp-content/uploads/2024/07/trail-life-usa-logo.png
GEO:41.5556183;-71.5189401
X-APPLE-STRUCTURED-LOCATION;VALUE=URI;X-ADDRESS=Living Hope Christian Church 730 South County Trail North Kingstown RI 02852 United States;X-APPLE-RADIUS=500;X-TITLE=730 South County Trail:geo:-71.5189401,41.5556183
END:VEVENT
BEGIN:VEVENT
DTSTART;TZID=America/New_York:20250114T191500
DTEND;TZID=America/New_York:20250114T203000
DTSTAMP:20260424T235419
CREATED:20241227T150138Z
LAST-MODIFIED:20250515T220801Z
UID:10007024-1736882100-1736886600@lhcc.info
SUMMARY:Ladies Tuesday Night Bible Study
DESCRIPTION:Women come join us for this weekly Bible study led by Amy Brock on Tuesdays at 7:15pm\nYou can meet with us in person at the church or from home through this ZOOM LINK.\nIf you would like to\, you can also access the study question in advance of the meeting by Clicking Here.
URL:https://lhcc.info/event/ladies-tuesday-night-bible-study/2025-01-14/
LOCATION:Living Hope Christian Church\, 730 South County Trail\, North Kingstown\, RI\, 02852\, United States
CATEGORIES:Bible Studies
ATTACH;FMTTYPE=image/png:https://lhcc.info/wp-content/uploads/2024/12/Ladies-Bible-Study.png
GEO:41.5556183;-71.5189401
X-APPLE-STRUCTURED-LOCATION;VALUE=URI;X-ADDRESS=Living Hope Christian Church 730 South County Trail North Kingstown RI 02852 United States;X-APPLE-RADIUS=500;X-TITLE=730 South County Trail:geo:-71.5189401,41.5556183
END:VEVENT
END:VCALENDAR