BEGIN:VCALENDAR
VERSION:2.0
PRODID:-//Living Hope Christian Church - ECPv6.15.17.1//NONSGML v1.0//EN
CALSCALE:GREGORIAN
METHOD:PUBLISH
X-ORIGINAL-URL:https://lhcc.info
X-WR-CALDESC:Events for Living Hope Christian Church
REFRESH-INTERVAL;VALUE=DURATION:PT1H
X-Robots-Tag:noindex
X-PUBLISHED-TTL:PT1H
BEGIN:VTIMEZONE
TZID:America/New_York
BEGIN:DAYLIGHT
TZOFFSETFROM:-0500
TZOFFSETTO:-0400
TZNAME:EDT
DTSTART:20230312T070000
END:DAYLIGHT
BEGIN:STANDARD
TZOFFSETFROM:-0400
TZOFFSETTO:-0500
TZNAME:EST
DTSTART:20231105T060000
END:STANDARD
BEGIN:DAYLIGHT
TZOFFSETFROM:-0500
TZOFFSETTO:-0400
TZNAME:EDT
DTSTART:20240310T070000
END:DAYLIGHT
BEGIN:STANDARD
TZOFFSETFROM:-0400
TZOFFSETTO:-0500
TZNAME:EST
DTSTART:20241103T060000
END:STANDARD
BEGIN:DAYLIGHT
TZOFFSETFROM:-0500
TZOFFSETTO:-0400
TZNAME:EDT
DTSTART:20250309T070000
END:DAYLIGHT
BEGIN:STANDARD
TZOFFSETFROM:-0400
TZOFFSETTO:-0500
TZNAME:EST
DTSTART:20251102T060000
END:STANDARD
END:VTIMEZONE
BEGIN:VEVENT
DTSTART;TZID=America/New_York:20241229T080000
DTEND;TZID=America/New_York:20241229T084500
DTSTAMP:20260425T000509
CREATED:20160830T200212Z
LAST-MODIFIED:20170218T124644Z
UID:10001688-1735459200-1735461900@lhcc.info
SUMMARY:Adult Sunday School
DESCRIPTION:Looking for a weekend Bible study? Join us in Classroom 1 at 9 am every Sunday morning for a small group study led by a rotation of teachers. Each teacher is given several weeks to cover the topic of their choice. Teens are welcome at this study! (We’re sorry\, but there is no child care available.)
URL:https://lhcc.info/event/adult-sunday-school/2024-12-29/
LOCATION:Living Hope Christian Church\, 730 South County Trail\, North Kingstown\, RI\, 02852\, United States
CATEGORIES:Bible Studies
ATTACH;FMTTYPE=image/jpeg:https://lhcc.info/wp-content/uploads/2016/09/bible-study-north-kingstown-churches.jpg
GEO:41.5556183;-71.5189401
X-APPLE-STRUCTURED-LOCATION;VALUE=URI;X-ADDRESS=Living Hope Christian Church 730 South County Trail North Kingstown RI 02852 United States;X-APPLE-RADIUS=500;X-TITLE=730 South County Trail:geo:-71.5189401,41.5556183
END:VEVENT
BEGIN:VEVENT
DTSTART;TZID=America/New_York:20241229T091500
DTEND;TZID=America/New_York:20241229T100000
DTSTAMP:20260425T000509
CREATED:20241227T145558Z
LAST-MODIFIED:20241227T145558Z
UID:10006997-1735463700-1735466400@lhcc.info
SUMMARY:Church Prayer Time
DESCRIPTION:Join us for a time of weekly\, corporate prayer on Sunday mornings at 9:15am before our Sunday church service. \nWe meet in person at the church only for this prayer gathering\, there is no Zoom option.
URL:https://lhcc.info/event/church-prayer-time-2/2024-12-29/
LOCATION:Living Hope Christian Church\, 730 South County Trail\, North Kingstown\, RI\, 02852\, United States
CATEGORIES:Prayer
ATTACH;FMTTYPE=image/png:https://lhcc.info/wp-content/uploads/2024/12/Prayer-Times.png
GEO:41.5556183;-71.5189401
X-APPLE-STRUCTURED-LOCATION;VALUE=URI;X-ADDRESS=Living Hope Christian Church 730 South County Trail North Kingstown RI 02852 United States;X-APPLE-RADIUS=500;X-TITLE=730 South County Trail:geo:-71.5189401,41.5556183
END:VEVENT
BEGIN:VEVENT
DTSTART;TZID=America/New_York:20241229T113000
DTEND;TZID=America/New_York:20241229T130000
DTSTAMP:20260425T000509
CREATED:20241223T141745Z
LAST-MODIFIED:20241223T141745Z
UID:10006894-1735471800-1735477200@lhcc.info
SUMMARY:Monthly Fellowship Lunch
DESCRIPTION:Our next monthly Fellowship Lunch will be Sunday\, December 29th immediately after service. \nPlease bring a dish or dessert to share and we will spend some time reflecting on 2024 as our 25th anniversary year and all the great things that God accomplished through us as a church and pray about where He will be taking us in 2025!
URL:https://lhcc.info/event/monthly-fellowship-lunch-14/
LOCATION:Living Hope Christian Church\, 730 South County Trail\, North Kingstown\, RI\, 02852\, United States
ATTACH;FMTTYPE=image/png:https://lhcc.info/wp-content/uploads/2024/12/Monthly-Fellowship-Lunch.png
GEO:41.5556183;-71.5189401
X-APPLE-STRUCTURED-LOCATION;VALUE=URI;X-ADDRESS=Living Hope Christian Church 730 South County Trail North Kingstown RI 02852 United States;X-APPLE-RADIUS=500;X-TITLE=730 South County Trail:geo:-71.5189401,41.5556183
END:VEVENT
END:VCALENDAR