BEGIN:VCALENDAR
VERSION:2.0
PRODID:-//Living Hope Christian Church - ECPv6.15.17.1//NONSGML v1.0//EN
CALSCALE:GREGORIAN
METHOD:PUBLISH
X-ORIGINAL-URL:https://lhcc.info
X-WR-CALDESC:Events for Living Hope Christian Church
REFRESH-INTERVAL;VALUE=DURATION:PT1H
X-Robots-Tag:noindex
X-PUBLISHED-TTL:PT1H
BEGIN:VTIMEZONE
TZID:America/New_York
BEGIN:DAYLIGHT
TZOFFSETFROM:-0500
TZOFFSETTO:-0400
TZNAME:EDT
DTSTART:20230312T070000
END:DAYLIGHT
BEGIN:STANDARD
TZOFFSETFROM:-0400
TZOFFSETTO:-0500
TZNAME:EST
DTSTART:20231105T060000
END:STANDARD
BEGIN:DAYLIGHT
TZOFFSETFROM:-0500
TZOFFSETTO:-0400
TZNAME:EDT
DTSTART:20240310T070000
END:DAYLIGHT
BEGIN:STANDARD
TZOFFSETFROM:-0400
TZOFFSETTO:-0500
TZNAME:EST
DTSTART:20241103T060000
END:STANDARD
BEGIN:DAYLIGHT
TZOFFSETFROM:-0500
TZOFFSETTO:-0400
TZNAME:EDT
DTSTART:20250309T070000
END:DAYLIGHT
BEGIN:STANDARD
TZOFFSETFROM:-0400
TZOFFSETTO:-0500
TZNAME:EST
DTSTART:20251102T060000
END:STANDARD
END:VTIMEZONE
BEGIN:VEVENT
DTSTART;TZID=America/New_York:20241201T080000
DTEND;TZID=America/New_York:20241201T084500
DTSTAMP:20260425T000504
CREATED:20160830T200212Z
LAST-MODIFIED:20170218T124644Z
UID:10001684-1733040000-1733042700@lhcc.info
SUMMARY:Adult Sunday School
DESCRIPTION:Looking for a weekend Bible study? Join us in Classroom 1 at 9 am every Sunday morning for a small group study led by a rotation of teachers. Each teacher is given several weeks to cover the topic of their choice. Teens are welcome at this study! (We’re sorry\, but there is no child care available.)
URL:https://lhcc.info/event/adult-sunday-school/2024-12-01/
LOCATION:Living Hope Christian Church\, 730 South County Trail\, North Kingstown\, RI\, 02852\, United States
CATEGORIES:Bible Studies
ATTACH;FMTTYPE=image/jpeg:https://lhcc.info/wp-content/uploads/2016/09/bible-study-north-kingstown-churches.jpg
GEO:41.5556183;-71.5189401
X-APPLE-STRUCTURED-LOCATION;VALUE=URI;X-ADDRESS=Living Hope Christian Church 730 South County Trail North Kingstown RI 02852 United States;X-APPLE-RADIUS=500;X-TITLE=730 South County Trail:geo:-71.5189401,41.5556183
END:VEVENT
BEGIN:VEVENT
DTSTART;TZID=America/New_York:20241201T113000
DTEND;TZID=America/New_York:20241201T130000
DTSTAMP:20260425T000504
CREATED:20241024T234949Z
LAST-MODIFIED:20241029T152328Z
UID:10006887-1733052600-1733058000@lhcc.info
SUMMARY:Special Mission Monthly Fellowship "leftover" Lunch
DESCRIPTION:We are hosting John & Marion Andrews from the Netherlands for a mission visit on Sunday\, December 1st so to celebrate we will hold our normal Thanksgiving Fellowship “Leftover” Lunch that day with them. \nThe mission team will be catering the bulk of the food that day\, however\, we also encourage people to also share whatever Thanksgiving leftovers they might have (particularly dessert) to add to the meal. \nIf you and your family plan on attending \, please Sign Up Here so we can have a headcount for the catered portion.
URL:https://lhcc.info/event/monthly-fellowship-lunch-13/
LOCATION:Living Hope Christian Church\, 730 South County Trail\, North Kingstown\, RI\, 02852\, United States
CATEGORIES:Church Events
ATTACH;FMTTYPE=image/png:https://lhcc.info/wp-content/uploads/2024/10/Monthly-Fellowship-Lunch-1-1.png
GEO:41.5556183;-71.5189401
X-APPLE-STRUCTURED-LOCATION;VALUE=URI;X-ADDRESS=Living Hope Christian Church 730 South County Trail North Kingstown RI 02852 United States;X-APPLE-RADIUS=500;X-TITLE=730 South County Trail:geo:-71.5189401,41.5556183
END:VEVENT
BEGIN:VEVENT
DTSTART;TZID=America/New_York:20241201T180000
DTEND;TZID=America/New_York:20241201T193000
DTSTAMP:20260425T000504
CREATED:20240827T163627Z
LAST-MODIFIED:20240917T160952Z
UID:10005881-1733076000-1733081400@lhcc.info
SUMMARY:Youth Group Meeting
DESCRIPTION:Middle School (6th-8th grade) and High School (9th-12th grade)\nJoin us on Sunday nights from 6-7:30pm at the church for food\, fellowship\, and discussion time together!
URL:https://lhcc.info/event/youth-group-meeting-3/2024-12-01/
LOCATION:Living Hope Christian Church\, 730 South County Trail\, North Kingstown\, RI\, 02852\, United States
CATEGORIES:Teen Ministry
ATTACH;FMTTYPE=image/jpeg:https://lhcc.info/wp-content/uploads/2022/12/LHCC-Youth-Group.jpg
GEO:41.5556183;-71.5189401
X-APPLE-STRUCTURED-LOCATION;VALUE=URI;X-ADDRESS=Living Hope Christian Church 730 South County Trail North Kingstown RI 02852 United States;X-APPLE-RADIUS=500;X-TITLE=730 South County Trail:geo:-71.5189401,41.5556183
END:VEVENT
END:VCALENDAR