BEGIN:VCALENDAR
VERSION:2.0
PRODID:-//Living Hope Christian Church - ECPv6.15.17.1//NONSGML v1.0//EN
CALSCALE:GREGORIAN
METHOD:PUBLISH
X-WR-CALNAME:Living Hope Christian Church
X-ORIGINAL-URL:https://lhcc.info
X-WR-CALDESC:Events for Living Hope Christian Church
REFRESH-INTERVAL;VALUE=DURATION:PT1H
X-Robots-Tag:noindex
X-PUBLISHED-TTL:PT1H
BEGIN:VTIMEZONE
TZID:America/New_York
BEGIN:DAYLIGHT
TZOFFSETFROM:-0500
TZOFFSETTO:-0400
TZNAME:EDT
DTSTART:20230312T070000
END:DAYLIGHT
BEGIN:STANDARD
TZOFFSETFROM:-0400
TZOFFSETTO:-0500
TZNAME:EST
DTSTART:20231105T060000
END:STANDARD
BEGIN:DAYLIGHT
TZOFFSETFROM:-0500
TZOFFSETTO:-0400
TZNAME:EDT
DTSTART:20240310T070000
END:DAYLIGHT
BEGIN:STANDARD
TZOFFSETFROM:-0400
TZOFFSETTO:-0500
TZNAME:EST
DTSTART:20241103T060000
END:STANDARD
BEGIN:DAYLIGHT
TZOFFSETFROM:-0500
TZOFFSETTO:-0400
TZNAME:EDT
DTSTART:20250309T070000
END:DAYLIGHT
BEGIN:STANDARD
TZOFFSETFROM:-0400
TZOFFSETTO:-0500
TZNAME:EST
DTSTART:20251102T060000
END:STANDARD
END:VTIMEZONE
BEGIN:VEVENT
DTSTART;TZID=America/New_York:20240727T070000
DTEND;TZID=America/New_York:20240727T080000
DTSTAMP:20260425T121452
CREATED:20221216T221028Z
LAST-MODIFIED:20240822T200358Z
UID:10006627-1722063600-1722067200@lhcc.info
SUMMARY:Saturday Morning Bible Study
DESCRIPTION:Join us at 7am for our “Early Risers” Bible study led by Mike DeFrancesco.\nIf you are unable to meet in person\, you can join from home through this ZOOM Link.
URL:https://lhcc.info/event/saturday-morning-bible-study-3-2023-09-02-2024-04-27-2024-06-29/2024-07-27/
LOCATION:Living Hope Christian Church\, 730 South County Trail\, North Kingstown\, RI\, 02852\, United States
CATEGORIES:Bible Studies
ATTACH;FMTTYPE=image/jpeg:https://lhcc.info/wp-content/uploads/2022/12/Untitled-Facebook-Post.jpg
GEO:41.5556183;-71.5189401
X-APPLE-STRUCTURED-LOCATION;VALUE=URI;X-ADDRESS=Living Hope Christian Church 730 South County Trail North Kingstown RI 02852 United States;X-APPLE-RADIUS=500;X-TITLE=730 South County Trail:geo:-71.5189401,41.5556183
END:VEVENT
BEGIN:VEVENT
DTSTART;TZID=America/New_York:20240727T100000
DTEND;TZID=America/New_York:20240727T120000
DTSTAMP:20260425T121452
CREATED:20240711T183950Z
LAST-MODIFIED:20240711T183950Z
UID:10006865-1722074400-1722081600@lhcc.info
SUMMARY:Renew Your Mind Discussion Group for Women
DESCRIPTION:Join us for a follow up discussion to our first workshop so we can continue to better understand how we can renew our minds based on Biblical\, therapeutic and scientific information. You did not need to attend the original workshop to be blessed by this discussion group. We will first have a quick overview of the original material\, apply what we learned\, and solicit suggestions on what we can do together to keep our minds focused on the things of God! \n\nNo cost but let us know you are coming by Signing Up Here.\n\n*Please feel free to bring a snack or lunch item to share.
URL:https://lhcc.info/event/renew-your-mind-discussion-group-for-women/
LOCATION:Living Hope Christian Church\, 730 South County Trail\, North Kingstown\, RI\, 02852\, United States
CATEGORIES:Women's Ministry
ATTACH;FMTTYPE=image/png:https://lhcc.info/wp-content/uploads/2024/07/ReNew-Your-Mind.png
GEO:41.5556183;-71.5189401
X-APPLE-STRUCTURED-LOCATION;VALUE=URI;X-ADDRESS=Living Hope Christian Church 730 South County Trail North Kingstown RI 02852 United States;X-APPLE-RADIUS=500;X-TITLE=730 South County Trail:geo:-71.5189401,41.5556183
END:VEVENT
END:VCALENDAR