BEGIN:VCALENDAR
VERSION:2.0
PRODID:-//Living Hope Christian Church - ECPv6.15.17.1//NONSGML v1.0//EN
CALSCALE:GREGORIAN
METHOD:PUBLISH
X-WR-CALNAME:Living Hope Christian Church
X-ORIGINAL-URL:https://lhcc.info
X-WR-CALDESC:Events for Living Hope Christian Church
REFRESH-INTERVAL;VALUE=DURATION:PT1H
X-Robots-Tag:noindex
X-PUBLISHED-TTL:PT1H
BEGIN:VTIMEZONE
TZID:America/New_York
BEGIN:DAYLIGHT
TZOFFSETFROM:-0500
TZOFFSETTO:-0400
TZNAME:EDT
DTSTART:20230312T070000
END:DAYLIGHT
BEGIN:STANDARD
TZOFFSETFROM:-0400
TZOFFSETTO:-0500
TZNAME:EST
DTSTART:20231105T060000
END:STANDARD
BEGIN:DAYLIGHT
TZOFFSETFROM:-0500
TZOFFSETTO:-0400
TZNAME:EDT
DTSTART:20240310T070000
END:DAYLIGHT
BEGIN:STANDARD
TZOFFSETFROM:-0400
TZOFFSETTO:-0500
TZNAME:EST
DTSTART:20241103T060000
END:STANDARD
BEGIN:DAYLIGHT
TZOFFSETFROM:-0500
TZOFFSETTO:-0400
TZNAME:EDT
DTSTART:20250309T070000
END:DAYLIGHT
BEGIN:STANDARD
TZOFFSETFROM:-0400
TZOFFSETTO:-0500
TZNAME:EST
DTSTART:20251102T060000
END:STANDARD
END:VTIMEZONE
BEGIN:VEVENT
DTSTART;TZID=America/New_York:20240604T180000
DTEND;TZID=America/New_York:20240604T193000
DTSTAMP:20260425T174107
CREATED:20231024T171831Z
LAST-MODIFIED:20231024T171831Z
UID:10006815-1717524000-1717529400@lhcc.info
SUMMARY:Trail Life Meeting
DESCRIPTION:This program is for boys ages 5 to 17. \nThe boys will be engaged in real-world challenges and experience camping\, hiking\, and fishing; they will develop skills in riflery\, archery\, and canoeing; and learn character and leadership in a practical hands-on manner that is naturally engaging. \nThe boys will find mentors\, fathers and sons will connect\, important relationships will be fostered\, and boys will find opportunities to achieve significant accomplishments. \nRegular meetings are on Tuesday evenings from 6-7:30pm and the boys will regularly particpate in other “Hit the Trail” activities as well throughout the year. \nFor more information visit our Trail Life Facebook Page.
URL:https://lhcc.info/event/trail-life-meeting/2024-06-04/
LOCATION:Living Hope Christian Church\, 730 South County Trail\, North Kingstown\, RI\, 02852\, United States
ATTACH;FMTTYPE=image/jpeg:https://lhcc.info/wp-content/uploads/2023/10/Troop-RI-2206.jpg
GEO:41.5556183;-71.5189401
X-APPLE-STRUCTURED-LOCATION;VALUE=URI;X-ADDRESS=Living Hope Christian Church 730 South County Trail North Kingstown RI 02852 United States;X-APPLE-RADIUS=500;X-TITLE=730 South County Trail:geo:-71.5189401,41.5556183
END:VEVENT
END:VCALENDAR