BEGIN:VCALENDAR
VERSION:2.0
PRODID:-//Living Hope Christian Church - ECPv6.15.17.1//NONSGML v1.0//EN
CALSCALE:GREGORIAN
METHOD:PUBLISH
X-ORIGINAL-URL:https://lhcc.info
X-WR-CALDESC:Events for Living Hope Christian Church
REFRESH-INTERVAL;VALUE=DURATION:PT1H
X-Robots-Tag:noindex
X-PUBLISHED-TTL:PT1H
BEGIN:VTIMEZONE
TZID:America/New_York
BEGIN:DAYLIGHT
TZOFFSETFROM:-0500
TZOFFSETTO:-0400
TZNAME:EDT
DTSTART:20230312T070000
END:DAYLIGHT
BEGIN:STANDARD
TZOFFSETFROM:-0400
TZOFFSETTO:-0500
TZNAME:EST
DTSTART:20231105T060000
END:STANDARD
BEGIN:DAYLIGHT
TZOFFSETFROM:-0500
TZOFFSETTO:-0400
TZNAME:EDT
DTSTART:20240310T070000
END:DAYLIGHT
BEGIN:STANDARD
TZOFFSETFROM:-0400
TZOFFSETTO:-0500
TZNAME:EST
DTSTART:20241103T060000
END:STANDARD
BEGIN:DAYLIGHT
TZOFFSETFROM:-0500
TZOFFSETTO:-0400
TZNAME:EDT
DTSTART:20250309T070000
END:DAYLIGHT
BEGIN:STANDARD
TZOFFSETFROM:-0400
TZOFFSETTO:-0500
TZNAME:EST
DTSTART:20251102T060000
END:STANDARD
END:VTIMEZONE
BEGIN:VEVENT
DTSTART;TZID=America/New_York:20240412T180000
DTEND;TZID=America/New_York:20240412T203000
DTSTAMP:20260425T221722
CREATED:20170905T210214Z
LAST-MODIFIED:20190329T133312Z
UID:10005256-1712944800-1712953800@lhcc.info
SUMMARY:FoY Teens
DESCRIPTION:Living Hope’s teen ministry is open to all teens ages 13-18\, plus select 12-yr-olds\, and meets every Friday night at the North Kingstown home of Steve and Amy Brock. Questions? Contact Steve Brock\, Amy Brock\, or Melanie Barlow!
URL:https://lhcc.info/event/foy-teens-2-2017-10-18-2019-01-02-2019-01-09-2019-01-16/2024-04-12/
LOCATION:Living Hope Christian Church\, 730 South County Trail\, North Kingstown\, RI\, 02852\, United States
CATEGORIES:Teen Ministry
GEO:41.5556183;-71.5189401
X-APPLE-STRUCTURED-LOCATION;VALUE=URI;X-ADDRESS=Living Hope Christian Church 730 South County Trail North Kingstown RI 02852 United States;X-APPLE-RADIUS=500;X-TITLE=730 South County Trail:geo:-71.5189401,41.5556183
END:VEVENT
BEGIN:VEVENT
DTSTART;TZID=America/New_York:20240412T190000
DTEND;TZID=America/New_York:20240412T203000
DTSTAMP:20260425T221722
CREATED:20240326T160405Z
LAST-MODIFIED:20240326T164341Z
UID:10005835-1712948400-1712953800@lhcc.info
SUMMARY:Caleb Mission Visit
DESCRIPTION:LHCC is happy to be hosting an event to meet the Caleb Mission.\nThis Christ based mission have rescued 1\,018 North Korean defectors in the face of much danger and were also the subject of a recent award-winning documentary\, Beyond Utopia.\nThey will be at the church on Friday\, April 12th at 7pm to share their experiences and answer some questions you may have. \nLight refreshments will be served so please Sign Up Online to let us know you are coming.
URL:https://lhcc.info/event/caleb-mission-visit/
LOCATION:Living Hope Christian Church\, 730 South County Trail\, North Kingstown\, RI\, 02852\, United States
CATEGORIES:Church Events
ATTACH;FMTTYPE=image/png:https://lhcc.info/wp-content/uploads/2024/03/beyond-utopia-for-believers.png
GEO:41.5556183;-71.5189401
X-APPLE-STRUCTURED-LOCATION;VALUE=URI;X-ADDRESS=Living Hope Christian Church 730 South County Trail North Kingstown RI 02852 United States;X-APPLE-RADIUS=500;X-TITLE=730 South County Trail:geo:-71.5189401,41.5556183
END:VEVENT
END:VCALENDAR